BEGIN:VCALENDAR
VERSION:2.0
PRODID:-//ChamberMaster//Event Calendar 2.0//EN
METHOD:PUBLISH
X-PUBLISHED-TTL:P3D
REFRESH-INTERVAL:P3D
CALSCALE:GREGORIAN
BEGIN:VEVENT
DTSTART:20231108T170000Z
DTEND:20231108T190000Z
X-MICROSOFT-CDO-ALLDAYEVENT:FALSE
SUMMARY:Fill The Bus Warming Event benefitting The Sub Zero Mission
DESCRIPTION:Items being collected:\n\nSTAY ALIVE FIVE!\n\n	Coats (L-4XL)\, \n	Boots (9-13)\, \n	Socks (New)\, \n	Sleeping Bags\, \n	Hats\, Gloves & Tent
X-ALT-DESC;FMTTYPE=text/html:<span style="font-size:18px\;">Items being collected:<br />\n<span style="font-size:24px\;"><strong><em>STAY ALIVE FIVE!</em></strong></span></span>\n<ul>\n	<li><span style="font-size:18px\;">Coats (L-4XL)\, </span></li>\n	<li><span style="font-size:18px\;">Boots (9-13)\, </span></li>\n	<li><span style="font-size:18px\;">Socks (New)\, </span></li>\n	<li><span style="font-size:18px\;">Sleeping Bags\, </span></li>\n	<li><span style="font-size:18px\;">Hats\, Gloves &amp\; Tent</span></li>\n</ul>\n
LOCATION:9329 Ravenna Rd\, Suite C Twinsburg\, OH 44087 LUNCH PROVIDED! The Sub Zero Mission bus will be on location
UID:e.2230.3251
SEQUENCE:3
DTSTAMP:20260421T190447Z
URL:https://business.twinsburgchamber.com/events/details/fill-the-bus-warming-event-benefitting-the-sub-zero-mission-3251
END:VEVENT

END:VCALENDAR
