BEGIN:VCALENDAR
VERSION:2.0
PRODID:-//ChamberMaster//Event Calendar 2.0//EN
METHOD:PUBLISH
X-PUBLISHED-TTL:P3D
REFRESH-INTERVAL:P3D
CALSCALE:GREGORIAN
BEGIN:VEVENT
DTSTART:20240213T164500Z
DTEND:20240213T180000Z
X-MICROSOFT-CDO-ALLDAYEVENT:FALSE
SUMMARY:February Networking Lunch
DESCRIPTION:Join us for this Networking event\, featuring a Lunch and Learn by The Sun Media House.
X-ALT-DESC;FMTTYPE=text/html:<span style="font-size:16px\;">Join us for this Networking event\, featuring a Lunch and Learn by The Sun Media House.</span>
LOCATION:Burgers 2 Beer 8941 Wilcox Drive Twinsburg\, OH 44087
UID:e.2230.3259
SEQUENCE:3
DTSTAMP:20260419T165425Z
URL:https://business.twinsburgchamber.com/events/details/february-networking-lunch-3259
END:VEVENT

END:VCALENDAR
