BEGIN:VCALENDAR
VERSION:2.0
PRODID:-//ChamberMaster//Event Calendar 2.0//EN
METHOD:PUBLISH
X-PUBLISHED-TTL:P3D
REFRESH-INTERVAL:P3D
CALSCALE:GREGORIAN
BEGIN:VEVENT
DTSTART;VALUE=DATE:20170201
DTEND;VALUE=DATE:20170204
TRANSP:TRANSPARENT
X-MICROSOFT-CDO-ALLDAYEVENT:TRUE
SUMMARY:Explore Twinsburg - A coffee table picture book of Twinsburg\, Ohio
DESCRIPTION:Books are IN!!! Please call the Chamber at 330-963-6249 to pickup your copy today!\n\n\n\nThe Twinsburg Chamber of Commerce and the Twinsburg Historical Society along with Photographer Mark Gutowski have embarked on a project to capture the beauty and charm of Twinsburg\, Ohio. Their aim is to create a high quality\, hardcover picture book of Twinsburg\, through photographs submitted by people who love our city.\n\n \n\nCitizens are encouraged to submit photographs\, which may be of anything that captures the beauty and charm of our city. Topics may include but are not limited to: buildings\, houses\, structures\, monuments\, doors\, people\, events\, gatherings\, parks\, nature\, flora\, and fauna. Photographs from all four seasons are encouraged.\n\n \n\nAll of the proceeds from the book will be donated to Chamber of Commerce and the Historical Society for charities and causes. The Twinsburg Chamber Of Commerce is dedicated to promoting and improving the economic welfare of the city of Twinsburg while the Historical Society is committed to preserving the city's history. You can be a part of this project too. We are now accepting pre orders at a special rate of $29.95.\n\n \n\nWhen someone reads "Explore Twinsburg   "A Photographic Essay of Twinsburg\, Ohio"\, they will walk away with an experience of what life is like today in our much celebrated community!
X-ALT-DESC;FMTTYPE=text/html:<br />\n<br />\n<span style="font-size:14px\;"><span style="font-family:arial\;"><span style="color:#FF0000\;"><strong>Books are IN!!! Please call the Chamber at 330-963-6249 to pickup your copy today!</strong></span><br />\n<br />\nThe Twinsburg&nbsp\;Chamber of Commerce and the Twinsburg Historical Society along with Photographer Mark Gutowski have embarked on a project to capture the beauty and charm of Twinsburg\, Ohio. Their aim is to create a high quality\, hardcover picture book of Twinsburg\, through photographs submitted by people who love our city.<br />\n&nbsp\;<br />\nCitizens are encouraged to submit photographs\, which may be of anything that captures the beauty and charm of our city. Topics may include but are not limited to: buildings\, houses\, structures\, monuments\, doors\, people\, events\, gatherings\, parks\, nature\, flora\, and fauna. Photographs from all four seasons are encouraged.<br />\n&nbsp\;<br />\nAll of the proceeds from the book will be donated to Chamber of Commerce and the Historical Society for charities and causes. The Twinsburg Chamber Of Commerce is dedicated to promoting and improving the economic welfare of the city of Twinsburg while the Historical Society is committed to preserving the city&rsquo\;s history. You can be a part of this project too. We are now accepting pre orders at a special rate of $29.95.<br />\n&nbsp\;<br />\nWhen someone reads &ldquo\;Explore Twinsburg &ndash\; &ldquo\;A Photographic&nbsp\;Essay of Twinsburg\, Ohio&rdquo\;\, they will walk away with an experience of what life is like today in our much celebrated&nbsp\;community!</span></span>
LOCATION:www.ExploreTwinsburg.org 9044 Church Street Twinsburg\, OH 44087
UID:e.2230.19
SEQUENCE:3
DTSTAMP:20260420T074038Z
URL:https://business.twinsburgchamber.com/events/details/explore-twinsburg-a-coffee-table-picture-book-of-twinsburg-ohio-08-02-2016-19
END:VEVENT

END:VCALENDAR
