BEGIN:VCALENDAR
VERSION:2.0
PRODID:-//ChamberMaster//Event Calendar 2.0//EN
METHOD:PUBLISH
X-PUBLISHED-TTL:P3D
REFRESH-INTERVAL:P3D
CALSCALE:GREGORIAN
BEGIN:VEVENT
DTSTART:20180614T113000Z
DTEND:20180614T130000Z
X-MICROSOFT-CDO-ALLDAYEVENT:FALSE
SUMMARY:Digital Brand - YOU! Sponsored by Small Business ConX
DESCRIPTION:NEW PROGRAM FOR 2018!\n\nSmall Business ConX - to people and information\n\n\n\nJoin fellow business owners and entrepreneurs for this MEMBERS ONLY networking\, information and solutions to grow your business.\n\n\n\nthan not the personal brand is an afterthought.  This presentation will highlight the importance of the individual brand and how to use it to break through the clutter of social media and how it contributes to the bottom line.  Attention is the new currency and having a digital brand that is memorable will help you stay top of mind and in the conversation.  If you are looking for ways to maximize your digital relationships and drive real results with social media you won't want to miss this!
X-ALT-DESC;FMTTYPE=text/html:<font face="arial\, helvetica\, sans-serif"><span style="font-size: 14.6667px\;"><strong>NEW PROGRAM FOR 2018!</strong><br />\n<span style="font-size:20px\;"><span style="color:#28c1a3\;"><strong>Small Business ConX - to people and information</strong></span></span><br />\n<br />\nJoin fellow business owners and entrepreneurs for this <span style="color:#FF0000\;">MEMBERS ONLY</span> networking\, information and solutions to grow your business.</span></font><br />\n<br />\n<span style="language:en-US\;"><span style="color:#222222\;"><span style="font-family:arial\;"><span style="font-size:11.0pt\;">than not the personal&nbsp\;brand&nbsp\;is an afterthought.&nbsp\; This presentation will highlight the importance of the individual&nbsp\;brand&nbsp\;and how to use it to break through the clutter of social media and how it contributes to the bottom line.&nbsp\; Attention is the new currency and having a&nbsp\;digital&nbsp\;brand&nbsp\;that is memorable will help&nbsp\;you&nbsp\;stay top of mind and in the conversation.&nbsp\; If&nbsp\;you&nbsp\;are looking for ways to maximize your&nbsp\;digital&nbsp\;relationships and drive real results with social media&nbsp\;you&nbsp\;won&#39\;t want to miss this</span></span></span></span><span style="language:en-US\;"><span style="color:black\;"><span style="font-family:times new roman\;"><span style="font-size:11.0pt\;">!</span></span></span></span><br />\n&nbsp\;<br />\n&nbsp\;
LOCATION:Mavis Winkles Irish Pub 8870 Darrow Rd\, Twinsburg\, OH 44087
UID:e.2230.1820
SEQUENCE:3
DTSTAMP:20260421T104355Z
URL:https://business.twinsburgchamber.com/events/details/digital-brand-you-sponsored-by-small-business-conx-1820
END:VEVENT

END:VCALENDAR
