BEGIN:VCALENDAR
VERSION:2.0
PRODID:-//ChamberMaster//Event Calendar 2.0//EN
METHOD:PUBLISH
X-PUBLISHED-TTL:P3D
REFRESH-INTERVAL:P3D
CALSCALE:GREGORIAN
BEGIN:VEVENT
DTSTART:20201022T120000Z
DTEND:20201022T140000Z
X-MICROSOFT-CDO-ALLDAYEVENT:FALSE
SUMMARY:Dementia CEU
DESCRIPTION:Dementia CEU-EXCUSIVELY FOR SOCIAL WORKERS & NURSES\n\nA 2-hour virtual education program focused on the topics of dementia and how it impacts those living with the disease.\n\n\n\n"The Basics of Dementia" AND "The Five Senses of Dementia"\n\n\n\nClick HERE for additional program details
X-ALT-DESC;FMTTYPE=text/html:<span style="font-size:18px\;">Dementia CEU-<span style="color:#FF0000\;"><em><strong>EXCUSIVELY FOR SOCIAL WORKERS &amp\; NURSES</strong></em></span><br />\nA 2-hour virtual education program focused on the topics of dementia and how it impacts those living with the disease.</span><br />\n<br />\n<span style="color: rgb(51\, 51\, 51)\; font-family: sans-serif\, Arial\, Verdana\, &quot\;Trebuchet MS&quot\;\; font-size: 18px\; background-color: rgb(255\, 255\, 255)\;">&quot\;The Basics of Dementia&quot\; AND &quot\;The Five Senses of Dementia&quot\;</span><br />\n<br />\n<span style="font-size:18px\;">Click <a href="https://www2.maplewoodseniorliving.com/submit/view_email/46e2c5b7-5090-455c-a567-35b955053b13?utm_source=enquire_marketing&amp\;utm_medium=email&amp\;utm_campaign=enq_OH_Cluster_Dementia_CEU_10.22.20&amp\;ad_rid=386695071&amp\;ad_caid=60052&amp\;ad_wid=381356&amp\;ad_chid=375750428&amp\;ad_sid=1243779981">HERE</a> for additional program details</span><br />\n&nbsp\;
LOCATION:This is a Virtual meeting
UID:e.2230.2369
SEQUENCE:3
DTSTAMP:20260425T192430Z
URL:https://business.twinsburgchamber.com/events/details/dementia-ceu-2369
END:VEVENT

END:VCALENDAR
