BEGIN:VCALENDAR
VERSION:2.0
PRODID:-//ChamberMaster//Event Calendar 2.0//EN
METHOD:PUBLISH
X-PUBLISHED-TTL:P3D
REFRESH-INTERVAL:P3D
CALSCALE:GREGORIAN
BEGIN:VEVENT
DTSTART:20180601T170000Z
DTEND:20180601T213000Z
X-MICROSOFT-CDO-ALLDAYEVENT:FALSE
SUMMARY:Dan McCoy State Farm Insurance Grand Opening & Ribbon Cutting Celebration
DESCRIPTION:You're Invited!  Dan McCoy State Farm Insurance Grand Opening & Ribbon Cutting.
X-ALT-DESC;FMTTYPE=text/html:<br />\n<span style="font-size:14px\;"><span style="font-family:arial\;">You&#39\;re Invited!&nbsp\; Dan McCoy State Farm Insurance Grand Opening &amp\; Ribbon Cutting.&nbsp\;&nbsp\;</span></span>
LOCATION:Dan McCoy State Farm Insurance 10804 Ravenna Rd. Twinsburg\, OH 44087
UID:e.2230.1819
SEQUENCE:3
DTSTAMP:20260421T104354Z
URL:https://business.twinsburgchamber.com/events/details/dan-mccoy-state-farm-insurance-grand-opening-ribbon-cutting-celebration-1819
END:VEVENT

END:VCALENDAR
