BEGIN:VCALENDAR
VERSION:2.0
PRODID:-//ChamberMaster//Event Calendar 2.0//EN
METHOD:PUBLISH
X-PUBLISHED-TTL:P3D
REFRESH-INTERVAL:P3D
CALSCALE:GREGORIAN
BEGIN:VEVENT
DTSTART:20181204T200000Z
DTEND:20181204T210000Z
X-MICROSOFT-CDO-ALLDAYEVENT:FALSE
SUMMARY:D Old Granite Grand Opening & Ribbon Cutting Celebration
DESCRIPTION:You're Invited!  D Old Granite Grand Opening & Ribbon Cutting.
X-ALT-DESC;FMTTYPE=text/html:<br />\n<span style="font-size:14px\;"><strong><span style="font-family:arial\;">You&#39\;re Invited!&nbsp\; D Old Granite Grand Opening &amp\; Ribbon Cutting.&nbsp\;&nbsp\;</span></strong></span>
LOCATION:D Old Granite 1953 Case Parkway South Twinsburg\, OH 44087
UID:e.2230.2066
SEQUENCE:3
DTSTAMP:20260421T203151Z
URL:https://business.twinsburgchamber.com/events/details/d-old-granite-grand-opening-ribbon-cutting-celebration-2066
END:VEVENT

END:VCALENDAR
