BEGIN:VCALENDAR
VERSION:2.0
PRODID:-//ChamberMaster//Event Calendar 2.0//EN
METHOD:PUBLISH
X-PUBLISHED-TTL:P3D
REFRESH-INTERVAL:P3D
CALSCALE:GREGORIAN
BEGIN:VEVENT
DTSTART:20160412T160000Z
DTEND:20160412T160000Z
X-MICROSOFT-CDO-ALLDAYEVENT:FALSE
SUMMARY:CVCC's Regional Chamber Networking Luncheon
DESCRIPTION:You're invited to our Annual Regional Chamber Networking Luncheon\, "How To Transform Your Organization Through Great Leadership"\, presented by John R. Brandt\, CEO\, The MPI Group. Discover principals to improve performance and create positive change in you organization!
X-ALT-DESC;FMTTYPE=text/html:You&#39\;re invited to our Annual Regional Chamber Networking Luncheon\, &quot\;How To Transform Your Organization Through Great Leadership&quot\;\, presented by John R. Brandt\, CEO\, The MPI Group. Discover principals to improve performance and create positive change in you organization!
LOCATION:Cuyahoga Valley Career Canter\, 8001 Brecksville Rd\, Brecksville\, OH \, 44141
UID:e.2230.354
SEQUENCE:3
DTSTAMP:20260419T141147Z
URL:https://business.twinsburgchamber.com/events/details/cvcc-s-regional-chamber-networking-luncheon-04-12-2016-354
END:VEVENT

END:VCALENDAR
