BEGIN:VCALENDAR
VERSION:2.0
PRODID:-//ChamberMaster//Event Calendar 2.0//EN
METHOD:PUBLISH
X-PUBLISHED-TTL:P3D
REFRESH-INTERVAL:P3D
CALSCALE:GREGORIAN
BEGIN:VEVENT
DTSTART:20160806T120000Z
DTEND:20160806T210000Z
X-MICROSOFT-CDO-ALLDAYEVENT:FALSE
SUMMARY:CrossFit Twinsburg's 2nd Annual "DOUBLE TROUBLE THROW DOWN"
DESCRIPTION:CrossFit Twinsburg's 2nd Annual "Twins Day"\, Two Person Team CrossFit Competition.
X-ALT-DESC;FMTTYPE=text/html:CrossFit Twinsburg&#39\;s 2nd Annual &quot\;Twins Day&quot\;\, Two Person Team CrossFit Competition.&nbsp\;<br />\n<br />\n&nbsp\;
LOCATION:CrossFit Twinsburg 8054 Darrow Road\, Building C Twinsburg\, Ohio 44087
UID:e.2230.629
SEQUENCE:3
DTSTAMP:20260419T204649Z
URL:https://business.twinsburgchamber.com/events/details/crossfit-twinsburg-s-2nd-annual-double-trouble-throw-down-08-06-2016-629
END:VEVENT

END:VCALENDAR
