BEGIN:VCALENDAR
VERSION:2.0
PRODID:-//ChamberMaster//Event Calendar 2.0//EN
METHOD:PUBLISH
X-PUBLISHED-TTL:P3D
REFRESH-INTERVAL:P3D
CALSCALE:GREGORIAN
BEGIN:VEVENT
DTSTART:20250312T124500Z
DTEND:20250312T140000Z
X-MICROSOFT-CDO-ALLDAYEVENT:FALSE
SUMMARY:Coffee & Networking
DESCRIPTION:Join us for a morning of networking at Michael's Catering & Cafe!  Get warm...Stay connected!  We hope to see you there!
X-ALT-DESC;FMTTYPE=text/html:<span style="color: rgb(51\, 51\, 51)\; font-family: sans-serif\, Arial\, Verdana\, &quot\;Trebuchet MS&quot\;\; font-size: 16px\; background-color: rgb(255\, 255\, 255)\;">Join us for a morning of networking at Michael&#39\;s Catering &amp\; Cafe!&nbsp\; Get warm...Stay connected!&nbsp\; We hope to see you there!</span>
LOCATION:Michaels's Catering & Cafe 10071 Darrow Road Twinsburg\, OH 44087
UID:e.2230.3290
SEQUENCE:3
DTSTAMP:20260421T143644Z
URL:https://business.twinsburgchamber.com/events/details/coffee-networking-3290
END:VEVENT

END:VCALENDAR
