BEGIN:VCALENDAR
VERSION:2.0
PRODID:-//ChamberMaster//Event Calendar 2.0//EN
METHOD:PUBLISH
X-PUBLISHED-TTL:P3D
REFRESH-INTERVAL:P3D
CALSCALE:GREGORIAN
BEGIN:VEVENT
DTSTART:20180515T113000Z
DTEND:20180515T123000Z
X-MICROSOFT-CDO-ALLDAYEVENT:FALSE
SUMMARY:Cleveland -Akron Referral Groups Information Session
DESCRIPTION:The Chamber is pleased to announce the launch of the Cleveland-Akron Referral Group.  Relationships play a key role in customer relations\, building your customer base and marketing your brand.  Relationships that produce business leads or referrals take cultivation. \n\n\n\nCome learn about how the Cleveland-Akron Referral Group will give you exclusive and a noncompetitive  opportunity to build and leverage relationships.
X-ALT-DESC;FMTTYPE=text/html:<span style="font-size:12px\;"><span style="font-family:arial\;"><span style="font-size:14px\;">The Chamber is pleased to announce the launch of the <span style="color:#800080\;"><strong>Cleveland-Akron Referral Group.</strong>&nbsp\;&nbsp\;</span>Relationships play a key role in customer relations\, building your customer base and marketing your brand.&nbsp\; Relationships that produce business leads or referrals take cultivation.&nbsp\;<br />\n<br />\nCome learn about how the Cleveland-Akron Referral Group will give you exclusive and a noncompetitive &nbsp\;opportunity to build and leverage relationships.&nbsp\;&nbsp\;<br />\n&nbsp\;</span></span></span><br />\n&nbsp\;
LOCATION:Twinsburg Chamber of Commerce 9044 Church Street Twinsburg\, OH 44087
UID:e.2230.1815
SEQUENCE:3
DTSTAMP:20260421T104230Z
URL:https://business.twinsburgchamber.com/events/details/cleveland-akron-referral-groups-information-session-1815
END:VEVENT

END:VCALENDAR
