BEGIN:VCALENDAR
VERSION:2.0
PRODID:-//ChamberMaster//Event Calendar 2.0//EN
METHOD:PUBLISH
X-PUBLISHED-TTL:P3D
REFRESH-INTERVAL:P3D
CALSCALE:GREGORIAN
BEGIN:VEVENT
DTSTART:20190801T190000Z
DTEND:20190801T220000Z
X-MICROSOFT-CDO-ALLDAYEVENT:FALSE
SUMMARY:Chiromax Ribbon Cutting & Re-Grand Opening at New Location
DESCRIPTION:You're Invited!  Chiromax has moved to a larger location next door to their previous office.  Join us for a Ribbon Cutting& Re - Grand Opening at their new location!
X-ALT-DESC;FMTTYPE=text/html:<br />\n<span style="font-size:14px\;"><strong><span style="font-family:arial\;">You&#39\;re Invited!&nbsp\; Chiromax has moved to a larger location next door to their previous office.&nbsp\; Join us for a Ribbon Cutting&amp\; Re - Grand Opening at their new location!</span></strong></span><br />\n<br />\n&nbsp\;
LOCATION:Chiromax 8900 Darrow Road\, Suite H102 Twinsburg\, OH 44087
UID:e.2230.2199
SEQUENCE:3
DTSTAMP:20260422T114334Z
URL:https://business.twinsburgchamber.com/events/details/chiromax-ribbon-cutting-re-grand-opening-at-new-location-2199
END:VEVENT

END:VCALENDAR
