BEGIN:VCALENDAR
VERSION:2.0
PRODID:-//ChamberMaster//Event Calendar 2.0//EN
METHOD:PUBLISH
X-PUBLISHED-TTL:P3D
REFRESH-INTERVAL:P3D
CALSCALE:GREGORIAN
BEGIN:VEVENT
DTSTART:20181205T220000Z
DTEND:20181206T000000Z
X-MICROSOFT-CDO-ALLDAYEVENT:FALSE
SUMMARY:Cheers with the Chamber - Ugly Sweater Holiday Party
DESCRIPTION:Don't miss this opportunity to mix and mingle with other Twinsburg Chamber members in a relaxed and casual atmosphere! \n\n\n\nCheers with the Chamber After Hours is open to all Chamber members and their guests at no charge! Light appetizers\, cash bar and facility tours will generously be provided by Visual Marking Systems.\n\n\n\nOur business colleagues from the Solon Chamber of Commerce will be joining us!\n\n\n\nCHEERS AND BEERS TO GREAT NETWORKING!
X-ALT-DESC;FMTTYPE=text/html:<br />\n<span style="font-size:14px\;"><span style="font-family:arial\;">Don&rsquo\;t miss this opportunity to mix and mingle with other Twinsburg Chamber members in a relaxed and casual atmosphere!&nbsp\;<br />\n<br />\nCheers with the Chamber After Hours is open to all Chamber members and their guests at no charge! Light appetizers\, cash bar and facility tours will generously be provided by Visual Marking Systems.<br />\n<br />\n<span style="color:#0000FF\;">Our business colleagues from the Solon Chamber of Commerce will be joining us!</span><br />\n<br />\n<span style="color:#0000FF\;"><em><strong>CHEERS AND BEERS TO GREAT NETWORKING!</strong></em></span></span></span>
LOCATION:Visual Marking Systems 2097 E. Aurora Road Twinsburg\, OH 44087
UID:e.2230.2064
SEQUENCE:3
DTSTAMP:20260421T203259Z
URL:https://business.twinsburgchamber.com/events/details/cheers-with-the-chamber-ugly-sweater-holiday-party-2064
END:VEVENT

END:VCALENDAR
