BEGIN:VCALENDAR
VERSION:2.0
PRODID:-//ChamberMaster//Event Calendar 2.0//EN
METHOD:PUBLISH
X-PUBLISHED-TTL:P3D
REFRESH-INTERVAL:P3D
CALSCALE:GREGORIAN
BEGIN:VEVENT
DTSTART:20180809T200000Z
DTEND:20180809T220000Z
X-MICROSOFT-CDO-ALLDAYEVENT:FALSE
SUMMARY:Cheers with the Chamber - Party on the Patio at Blue Canyon
DESCRIPTION:Don't miss this opportunity to mix and mingle with other Chamber members in a relaxed and casual atmosphere! \n\n\n\nCheers with the Chamber After Hours is open to all Chamber members and their guests at no charge! Light appetizers and cash bar will generously be provided by Blue Canyon Kitchen & Tavern.\n\n\n\nWind down or enjoy a tap with the Chamber's NEW after hours format!
X-ALT-DESC;FMTTYPE=text/html:<br />\n<span style="font-size:14px\;"><span style="font-family:arial\;">Don&rsquo\;t miss this opportunity to mix and mingle with other Chamber members in a relaxed and casual atmosphere!&nbsp\;<br />\n<br />\nCheers with the Chamber After Hours is open to all Chamber members and their guests at no charge! Light appetizers and cash bar will generously be provided by <a href="http://bluecanyonrestaurant.com" target="_blank">Blue Canyon Kitchen &amp\; Tavern</a>.<br />\n<br />\n<span style="color:#FFA500\;"><em><strong>Wind down or enjoy a tap with the Chamber&#39\;s NEW after hours format!</strong></em></span></span></span>
LOCATION:Blue Canyon Kitchen & Tavern Outside Patio 8960 Wilcox Drive Twinsburg\, OH 44087
UID:e.2230.2041
SEQUENCE:3
DTSTAMP:20260421T134707Z
URL:https://business.twinsburgchamber.com/events/details/cheers-with-the-chamber-party-on-the-patio-at-blue-canyon-2041
END:VEVENT

END:VCALENDAR
