BEGIN:VCALENDAR
VERSION:2.0
PRODID:-//ChamberMaster//Event Calendar 2.0//EN
METHOD:PUBLISH
X-PUBLISHED-TTL:P3D
REFRESH-INTERVAL:P3D
CALSCALE:GREGORIAN
BEGIN:VEVENT
DTSTART:20190514T200000Z
DTEND:20190514T220000Z
X-MICROSOFT-CDO-ALLDAYEVENT:FALSE
SUMMARY:Cheers with the Chamber - Brazilian Barbecue
DESCRIPTION:Don't miss this opportunity to mix and mingle with other Twinsburg Chamber members and local business representatives in a relaxed and casual atmosphere! \n\n\n\nCheers with the Chamber After Hours is open to all Chamber members and their guests at no charge! Light appetizers\, refreshments and tours of the gorgous natural material will generously be provided by D Old Granite.\n\n\n\nOpen to all local business representatives!\n\n\n\nCHEERS AND BEERS TO GREAT NETWORKING!
X-ALT-DESC;FMTTYPE=text/html:<br />\n<span style="font-size:14px\;"><span style="font-family:arial\;">Don&rsquo\;t miss this opportunity to mix and mingle with other Twinsburg Chamber members and local business representatives in a relaxed and casual atmosphere!&nbsp\;<br />\n<br />\nCheers with the Chamber After Hours is open to all Chamber members and their guests at no charge! Light appetizers\, refreshments and tours of the gorgous natural material will generously be provided by D Old Granite.<br />\n<br />\n<span style="color:#0000FF\;">Open to all local business representatives!</span><br />\n<br />\n<span style="color:#0000FF\;"><em><strong>CHEERS AND BEERS TO GREAT NETWORKING!</strong></em></span></span></span>
LOCATION:D Old Granite 1953 Case Parkway South Twinsburg\, OH 44087
UID:e.2230.2190
SEQUENCE:3
DTSTAMP:20260422T061251Z
URL:https://business.twinsburgchamber.com/events/details/cheers-with-the-chamber-brazilian-barbecue-2190
END:VEVENT

END:VCALENDAR
