BEGIN:VCALENDAR
VERSION:2.0
PRODID:-//ChamberMaster//Event Calendar 2.0//EN
METHOD:PUBLISH
X-PUBLISHED-TTL:P3D
REFRESH-INTERVAL:P3D
CALSCALE:GREGORIAN
BEGIN:VEVENT
DTSTART:20180720T230500Z
DTEND:20180721T010000Z
X-MICROSOFT-CDO-ALLDAYEVENT:FALSE
SUMMARY:Chamber Night with the Akron RubberDucks!
DESCRIPTION:Get your tickets here! \n\n\n\nJoin the Twinsburg Chamber of Commerce and our friends at several local Chambers for a Chamber Night Out with the Akron RubberDucks vs Richmond Flying Squirrels!\n\n\n\nMulti-Chamber Social Networking Event for Friends and Family!\n\n\n\nBonus it's a FIREWORKS NIGHT!
X-ALT-DESC;FMTTYPE=text/html:<p><br />\n<u><span style="font-size:20px\;"><span style="font-family:arial\;"><a href="https://groupmatics.events/event/Twinsburgchamber2" target="_blank">Get your tickets here!</a></span>&nbsp\;</span></u><br />\n<br />\n<span style="font-size:14px\;"><span style="font-family:arial\;">Join the Twinsburg Chamber of Commerce and our friends at several local&nbsp\;Chambers for a Chamber Night Out with the Akron RubberDucks&nbsp\;vs </span></span>Richmond Flying Squirrels<span style="font-size:14px\;"><span style="font-family:arial\;">!<br />\n<br />\nMulti-Chamber&nbsp\;Social Networking Event for Friends and Family!</span></span><br />\n<br />\n<strong><span style="font-size:18px\;"><span style="font-family:arial\;"><span style="color:#FF0000\;">Bonus it&#39\;s a FIREWORKS NIGHT!</span></span></span></strong><br />\n<br />\n&nbsp\;</p>\n
LOCATION:Canal Park 300 King James Way (S. Main St.) Akron\, OH 44308
UID:e.2230.2036
SEQUENCE:3
DTSTAMP:20260421T121445Z
URL:https://business.twinsburgchamber.com/events/details/chamber-night-with-the-akron-rubberducks-2036
END:VEVENT

END:VCALENDAR
