BEGIN:VCALENDAR
VERSION:2.0
PRODID:-//ChamberMaster//Event Calendar 2.0//EN
METHOD:PUBLISH
X-PUBLISHED-TTL:P3D
REFRESH-INTERVAL:P3D
CALSCALE:GREGORIAN
BEGIN:VEVENT
DTSTART:20170616T230500Z
DTEND:20170617T010000Z
X-MICROSOFT-CDO-ALLDAYEVENT:FALSE
SUMMARY:Chamber Night with the Akron RubberDucks!
DESCRIPTION:Get your tickets here! \n\n\n\nJoin the Twinsburg Chamber of Commerce and 19 other Chambers for a Chamber Night Out with the Akron RubberDucks! Multi-Chamber Social Networking Event for Friends and Family!\n\n\n\nParticipating Chambers: Twinsburg\, Aurora\, Brimfield\, Tallmadge\, Greater Akron\, Stow-Munroe Falls\, Hudson\, Kent\, Rootstown Area\, Streetsboro\, Ravenna\, Lake Township\, Fairlawn\, Louisville\, Greater Medina\, North Canton\, Canton\, South Summit\, Copley
X-ALT-DESC;FMTTYPE=text/html:<br />\n<span style="font-size:18px\;"><span style="font-family:arial\;"><a href="https://groupmatics.events/event/Twinsburgchamber0" target="_blank">Get your tickets here!</a></span></span>&nbsp\;<br />\n<br />\n<span style="font-size:14px\;"><span style="font-family:arial\;">Join the Twinsburg Chamber of Commerce and 19 other Chambers for a Chamber Night Out with the Akron RubberDucks! Multi-Chamber&nbsp\;Social Networking Event for Friends and Family!<br />\n<br />\n<span style="color:#ff6600\;"><strong><u>Participating Chambers:</u>&nbsp\;</strong></span>Twinsburg\, Aurora\,&nbsp\;Brimfield\, Tallmadge\, Greater Akron\, Stow-Munroe Falls\, Hudson\, Kent\, Rootstown Area\, Streetsboro\, Ravenna\, Lake Township\, Fairlawn\, Louisville\, Greater Medina\, North Canton\, Canton\, South Summit\, Copley&nbsp\;</span></span>
LOCATION:Canal Park 300 S Main St. Akron\, OH 44308
UID:e.2230.1751
SEQUENCE:3
DTSTAMP:20260420T142150Z
URL:https://business.twinsburgchamber.com/events/details/chamber-night-with-the-akron-rubberducks-1751
END:VEVENT

END:VCALENDAR
