BEGIN:VCALENDAR
VERSION:2.0
PRODID:-//ChamberMaster//Event Calendar 2.0//EN
METHOD:PUBLISH
X-PUBLISHED-TTL:P3D
REFRESH-INTERVAL:P3D
CALSCALE:GREGORIAN
BEGIN:VEVENT
DTSTART:20260714T120000Z
DTEND:20260714T130000Z
X-MICROSOFT-CDO-ALLDAYEVENT:FALSE
SUMMARY:Chamber Coffee Hour
DESCRIPTION:Join us every month for a morning coffee networking event designed to connect local professionals\, foster new relationships\, and spark collaborative opportunities in a welcoming\, casual setting.
X-ALT-DESC;FMTTYPE=text/html:<span style="font-size:18px\;">Join us every month for a morning coffee networking event designed to connect local professionals\, foster new relationships\, and spark collaborative opportunities in a welcoming\, casual setting.</span>
LOCATION:TANISHA TAYLOR COACHING 10808 Ravenna Road Twinsburg\, OH 44087
UID:e.2230.3333
SEQUENCE:3
DTSTAMP:20260423T173020Z
URL:https://business.twinsburgchamber.com/events/details/chamber-coffee-hour-07-14-2026-3333
END:VEVENT

END:VCALENDAR
