BEGIN:VCALENDAR
VERSION:2.0
PRODID:-//ChamberMaster//Event Calendar 2.0//EN
METHOD:PUBLISH
X-PUBLISHED-TTL:P3D
REFRESH-INTERVAL:P3D
CALSCALE:GREGORIAN
BEGIN:VEVENT
DTSTART:20191119T130000Z
DTEND:20191119T143000Z
X-MICROSOFT-CDO-ALLDAYEVENT:FALSE
SUMMARY:Chamber 101 Breakfast - Learn/Join/Engage
DESCRIPTION:LEARN - JOIN - ENGAGE\n\n\n\n-Learn of bottom line savings' programs\n\n-Discover opportunities to meet other businesses\n\n-Realize the value and top ten benefits of memberships\n\n\n\nAre you a new member of or representative of your business to the Twinsburg Chamber?\n\n\n\nA current member of the Chamber looking to maximize your membership?\n\n\n\nJoin us for Chamber 101 member breakfast to learn about your Chamber\, how to get involved\, and how the Chamber can help grow your business!
X-ALT-DESC;FMTTYPE=text/html:<u><strong>LEARN - JOIN - ENGAGE</strong></u><br />\n<br />\n<strong>-Learn of bottom line savings&#39\; programs<br />\n-Discover opportunities to meet other businesses<br />\n-Realize the value and top ten benefits of memberships</strong><br />\n<br />\n<span style="font-size:14px\;"><span style="font-family:arial\;">Are you a new member of or representative of your business to the Twinsburg Chamber?<br />\n<br />\nA current member of the Chamber looking to maximize your membership?<br />\n<br />\nJoin us for Chamber 101 member breakfast to learn about your Chamber\, how to get involved\, and how the Chamber can help grow your business!<br />\n&nbsp\;</span></span><br />\n&nbsp\;
LOCATION:Strachan Novak Insurance 2190 E. Enterprise Pkwy Twinsburg\, OH 44087
UID:e.2230.2216
SEQUENCE:3
DTSTAMP:20260422T164127Z
URL:https://business.twinsburgchamber.com/events/details/chamber-101-breakfast-learn-join-engage-2216
END:VEVENT

END:VCALENDAR
