BEGIN:VCALENDAR
VERSION:2.0
PRODID:-//ChamberMaster//Event Calendar 2.0//EN
METHOD:PUBLISH
X-PUBLISHED-TTL:P3D
REFRESH-INTERVAL:P3D
CALSCALE:GREGORIAN
BEGIN:VEVENT
DTSTART:20190326T120000Z
DTEND:20190326T133000Z
X-MICROSOFT-CDO-ALLDAYEVENT:FALSE
SUMMARY:Chamber 101 Breakfast - Learn How to Maximize Your Membership
DESCRIPTION:Are you a new member of or representative of your business to the Twinsburg Chamber?\n\n\n\nA current member of the Chamber looking to maximize your membership?\n\n\n\nJoin us for Chamber 101 member breakfast to learn about your Chamber\, how to get involved\, and how the Chamber can help grow your business!\n\n \n\n(This event was formally the New Member Breakfast.)
X-ALT-DESC;FMTTYPE=text/html:<br />\n<span style="font-size:14px\;"><span style="font-family:arial\;">Are you a new member of or representative of your business to the Twinsburg Chamber?<br />\n<br />\nA current member of the Chamber looking to maximize your membership?<br />\n<br />\nJoin us for Chamber 101 member breakfast to learn about your Chamber\, how to get involved\, and how the Chamber can help grow your business!<br />\n&nbsp\;<br />\n<em><span style="font-size:12px\;">(This event was formally the New Member Breakfast.)</span></em></span></span>
LOCATION:Maplewood at Twinsburg 2463 Sussex Blvd. Twinsburg\, OH 44087
UID:e.2230.2179
SEQUENCE:3
DTSTAMP:20260422T015944Z
URL:https://business.twinsburgchamber.com/events/details/chamber-101-breakfast-learn-how-to-maximize-your-membership-2179
END:VEVENT

END:VCALENDAR
