BEGIN:VCALENDAR
VERSION:2.0
PRODID:-//ChamberMaster//Event Calendar 2.0//EN
METHOD:PUBLISH
X-PUBLISHED-TTL:P3D
REFRESH-INTERVAL:P3D
CALSCALE:GREGORIAN
BEGIN:VEVENT
DTSTART:20190410T140000Z
DTEND:20190410T150000Z
X-MICROSOFT-CDO-ALLDAYEVENT:FALSE
SUMMARY:CARSTAR Tim's Collision Re-Grand Opening & Ribbon Cutting Celebration
DESCRIPTION:You're Invited!  Re-Grand Opening & Ribbon Cutting for Tim's Collision who is now part of the CARSTAR family. \n\n\n\nJoin us in celebrating this new partnership in the community.  Complimentary refreshments will be provided.
X-ALT-DESC;FMTTYPE=text/html:<br />\n<span style="font-size:14px\;"><strong><span style="font-family:arial\;">You&#39\;re Invited!&nbsp\; </span></strong></span><strong style="color: rgb(51\, 51\, 51)\; font-family: sans-serif\, Arial\, Verdana\, &quot\;Trebuchet MS&quot\;\; font-size: 14px\; background-color: rgb(255\, 255\, 255)\;"><span style="font-family: arial\;">Re-Grand Opening &amp\; Ribbon Cutting for&nbsp\;</span></strong><span style="font-size:14px\;"><strong><span style="font-family:arial\;">Tim&#39\;s Collision who is now part of the CARSTAR family.&nbsp\;<br />\n<br />\nJoin us in celebrating this new partnership in the community.&nbsp\; Complimentary refreshments will be provided.</span></strong></span>
LOCATION:CARSTAR Tim's Collision 9158 Ravenna Road Twinsburg\, OH 44087
UID:e.2230.2185
SEQUENCE:3
DTSTAMP:20260422T061547Z
URL:https://business.twinsburgchamber.com/events/details/carstar-tim-s-collision-re-grand-opening-ribbon-cutting-celebration-2185
END:VEVENT

END:VCALENDAR
