BEGIN:VCALENDAR
VERSION:2.0
PRODID:-//ChamberMaster//Event Calendar 2.0//EN
METHOD:PUBLISH
X-PUBLISHED-TTL:P3D
REFRESH-INTERVAL:P3D
CALSCALE:GREGORIAN
BEGIN:VEVENT
DTSTART:20181025T113000Z
DTEND:20181025T131500Z
X-MICROSOFT-CDO-ALLDAYEVENT:FALSE
SUMMARY:Candidates & Coffee Forum featuring Ohio House 37th District & Ohio Senate 27th District
DESCRIPTION:Featuring\n\n\n\nOhio House of Representatives 37th District \n\nMike Rasor\, Republican Candidate\n\nCasey Weinstein\, Democratic Candidate\n\n\n\nOhio Senate \n\nKristina Roegner\, Republican Candidate\n\nAdam Van Ho\, Democratic Candidate\n\n\n\nLegislaitve acticity at the state level plays an important role in the local business climate\, workfor and economic development ecosystem.  This Forum will provide an opportunity for the representatives of our member companies to become informed and educated citizens this fall election season.\n\n\n\nHosted By: Hudson Chamber of Commerce\, Nordonia Hills Chamber of Commerce\, Stow Monroe Falls Chamber of Commerce & Twinsburg Chamber of Commerce
X-ALT-DESC;FMTTYPE=text/html:<span style="font-size:20px\;"><span style="color:#FF0000\;"><u><strong>Featuring</strong></u></span></span><br />\n<br />\n<u><span style="font-size:16px\;"><strong>Ohio House of Representatives 37th District&nbsp\;</strong></span></u><br />\nMike Rasor\, Republican Candidate<br />\nCasey Weinstein\, Democratic Candidate<br />\n<br />\n<span style="font-size:16px\;"><u><strong>Ohio Senate&nbsp\;</strong></u></span><br />\nKristina Roegner\, Republican Candidate<br />\nAdam Van Ho\, Democratic Candidate<br />\n<br />\nLegislaitve acticity at the state level plays an important role in the local business climate\, workfor and economic development ecosystem.&nbsp\; This Forum will provide an opportunity for the representatives of our member companies to become informed and educated citizens this fall election season.<br />\n<br />\n<span style="color:#0000CD\;"><strong>Hosted By: Hudson Chamber of Commerce\, Nordonia Hills Chamber of Commerce\, Stow Monroe Falls Chamber of Commerce &amp\; Twinsburg Chamber of Commerce&nbsp\;</strong></span>
LOCATION:Hilton Garden Inn 8971 Wilcox Drive Twinsburg\, OH 44087
UID:e.2230.2052
SEQUENCE:3
DTSTAMP:20260421T170324Z
URL:https://business.twinsburgchamber.com/events/details/candidates-coffee-forum-featuring-ohio-house-37th-district-ohio-senate-27th-district-2052
END:VEVENT

END:VCALENDAR
