BEGIN:VCALENDAR
VERSION:2.0
PRODID:-//ChamberMaster//Event Calendar 2.0//EN
METHOD:PUBLISH
X-PUBLISHED-TTL:P3D
REFRESH-INTERVAL:P3D
CALSCALE:GREGORIAN
BEGIN:VEVENT
DTSTART:20231109T170000Z
DTEND:20231109T183000Z
X-MICROSOFT-CDO-ALLDAYEVENT:FALSE
SUMMARY:CANCELLED-Business Leadership Training - Professional Development
DESCRIPTION:Please join us for a talk on "Professional Development" presented by\, Dr. Velvet Weems-Landingham.\n\n\n\nWho is Dr. Weems-Landingham?\n\n\n\nEducation\n\nDoctor of Philosophy in Organizational Behavior\, Case Western University\, 2004\n\nMasters in Science in Management and Public Policy Carnegie Mellon University\, \n\nBachelors of Science in Public Relations and Communications\, Syracuse University\n\n \n\nBiography \n\n \n\nDr. Weems-Landingham is an Associate Professor at Kent State University. She received her doctorate from Case Western Reserve University's Weatherhead School of Management in 2004. She has taught courses at the undergraduate\, graduate\, and professional levels. Her accomplishments include publications and presentations in numerous referred journals and international conferences. She has published several book chapters in edited volumes and a range of articles in journals such as International Journal of Learning\, International Journal of Business Strategy\, and International Journal of Knowledge\, Culture and Change Management.  Dr. Landingham's research and publication interests include: virtual teams\, teamwork\, leadership\, individual and team performance\, competency development\, and technology enhanced education. In addition to her scholarly activities\, she has nearly 20 years of experience designing\, developing\, and managing training and consulting initiatives within a wide array of organizations\, ranging from hospitals to manufacturers and not-for-profit agencies.  Areas of consultation include leadership\, coaching\, conflict resolution\, competency development\, diversity\, and emotional intelligence.
X-ALT-DESC;FMTTYPE=text/html:<span style="font-size:18px\;">Please join us for a talk on&nbsp\;<u><strong>&quot\;Professional Development&quot\;</strong></u> presented by\, <u><strong>Dr. Velvet Weems-Landingham.</strong></u></span><br />\n<br />\n<span style="font-size:18px\;"><u><strong><span style="font-size:16px\;">Who is Dr. Weems-Landingham?</span></strong></u></span><br />\n<br />\n<strong><u><span style="font-family:times new roman\,serif\;"><span style="font-size:12.0pt\;">Education</span></span></u></strong><br />\n<span style="font-size:14px\;"><em><span style="font-family:calibri light\,sans-serif\;">Doctor of Philosophy</span></em><span style="font-family:calibri light\,sans-serif\;"> in Organizational Behavior\, Case Western University\, 2004</span></span><br />\n<span style="font-size:14px\;"><span style="font-family:calibri light\,sans-serif\;"><em>Masters in Science </em>in Management and Public Policy Carnegie Mellon University\, </span></span><br />\n<span style="font-size:14px\;"><span style="font-family:calibri light\,sans-serif\;"><em>Bachelors of Science</em> in Public Relations and Communications\, Syracuse University</span></span><br />\n<span style="font-size:14px\;">&nbsp\;</span><br />\n<strong><u><span style="font-family:times new roman\,serif\;"><span style="font-size:12.0pt\;">Biography </span></span></u></strong><br />\n&nbsp\;<br />\n<span style="background:white\;"><span style="color:#222222\;"><span style="font-family:times new roman\,serif\;"><span style="font-size:12.0pt\;">Dr. Weems-Landingham is an Associate Professor at Kent State University. She received her doctorate from Case Western Reserve University&rsquo\;s Weatherhead School of Management in 2004. She has taught courses at the undergraduate\, graduate\, and professional levels. Her accomplishments include publications and presentations in numerous referred journals and international conferences. She has published several book chapters in edited volumes and a range of articles in journals such as International Journal of Learning\, International Journal of Business Strategy\, and International Journal of Knowledge\, Culture and Change Management.&nbsp\; Dr. Landingham&rsquo\;s research and publication interests include: virtual teams\, teamwork\, leadership\, individual and team performance\, competency development\, and technology enhanced education. In addition to her scholarly activities\, she has nearly 20 years of experience designing\, developing\, and managing training and consulting initiatives within a wide array of organizations\, ranging from hospitals to manufacturers and not-for-profit agencies.&nbsp\; Areas of consultation include leadership\, coaching\, conflict resolution\, competency development\, diversity\, and emotional intelligence.</span></span></span></span><br />\n<br />\n&nbsp\;
LOCATION:Kent State University-Twinsburg Academic Center
UID:e.2230.3254
SEQUENCE:3
DTSTAMP:20260421T185919Z
URL:https://business.twinsburgchamber.com/events/details/cancelled-business-leadership-training-professional-development-3254
END:VEVENT

END:VCALENDAR
