BEGIN:VCALENDAR
VERSION:2.0
PRODID:-//ChamberMaster//Event Calendar 2.0//EN
METHOD:PUBLISH
X-PUBLISHED-TTL:P3D
REFRESH-INTERVAL:P3D
CALSCALE:GREGORIAN
BEGIN:VEVENT
DTSTART:20200501T120000Z
DTEND:20200501T130000Z
X-MICROSOFT-CDO-ALLDAYEVENT:FALSE
SUMMARY:CANCELED - First Friday Networking ON THE GO - 12 Chambers of Commerce
DESCRIPTION:CANCELED\n \n\n12 CHAMBERS OF COMMERCE \n\nAurora  | Cuyahoga Falls | Hudson | Kent | Streetsboro | Green\n\nTallmadge | Twinsburg | Stow-Munroe Falls | Fairlawn   | Nordonia  Hills |Springfield Lakemore\n\n\n\nA professional business leaders networking reception before work the first Friday of every month. Bring business cards and your 30 second business commercial.  \n\n\n\n          THE place to be the first Friday of every month! \n\n\n\nAttendees between January - June\, 2020 can be entered to win a month lease of a convertible!  Courtesy of Great Lakes Honda in honor of the 5th Anniversary of this event!
X-ALT-DESC;FMTTYPE=text/html:<span style="color: rgb(51\, 51\, 51)\; font-family: sans-serif\, Arial\, Verdana\, &quot\;Trebuchet MS&quot\;\; font-size: 36px\;"><span style="color: rgb(255\, 0\, 0)\;"><strong>CANCELED</strong></span></span>\n<div>&nbsp\;</div>\n\n<div><span style="color: rgb(51\, 51\, 51)\; font-family: sans-serif\, Arial\, Verdana\, &quot\;Trebuchet MS&quot\;\; font-size: 16px\;"><span style="font-family: arial\;"><strong><span style="color: red\;">12 CHAMBERS OF COMMERCE</span>&nbsp\;</strong></span></span><br style="color: rgb(51\, 51\, 51)\; font-family: sans-serif\, Arial\, Verdana\, &quot\;Trebuchet MS&quot\;\; font-size: 13px\;" />\n<span style="color: rgb(51\, 51\, 51)\; font-size: 13px\; font-family: arial\;"><span style="font-size: 14px\;">Aurora&nbsp\;</span></span><span style="color: rgb(51\, 51\, 51)\; background-color: rgb(255\, 255\, 255)\; font-family: arial\; font-size: 14px\;">&nbsp\;|&nbsp\;</span><span style="color: rgb(51\, 51\, 51)\; font-family: sans-serif\, Arial\, Verdana\, &quot\;Trebuchet MS&quot\;\; font-size: 13px\; background-color: rgb(255\, 255\, 255)\;">Cuyahoga</span><span style="color: rgb(51\, 51\, 51)\; font-size: 13px\; font-family: arial\;"><span style="font-size: 14px\;">&nbsp\;Falls | Hudson | Kent | Streetsboro | Green<br />\nTallmadge | Twinsburg | Stow-Munroe Falls&nbsp\;</span></span><span style="color: rgb(51\, 51\, 51)\; background-color: rgb(255\, 255\, 255)\; font-family: arial\; font-size: 14px\;">|</span><span style="color: rgb(51\, 51\, 51)\; font-size: 13px\; font-family: arial\;"><span style="font-size: 14px\;">&nbsp\;Fairlawn&nbsp\;</span></span><span style="color: rgb(51\, 51\, 51)\; background-color: rgb(255\, 255\, 255)\; font-family: arial\; font-size: 14px\;">&nbsp\; | Nordonia&nbsp\; Hills&nbsp\;|</span><span style="color: rgb(51\, 51\, 51)\; font-family: sans-serif\, Arial\, Verdana\, &quot\;Trebuchet MS&quot\;\; font-size: 13px\; background-color: rgb(255\, 255\, 255)\;">Springfield Lakemore</span><br style="color: rgb(51\, 51\, 51)\; font-family: sans-serif\, Arial\, Verdana\, &quot\;Trebuchet MS&quot\;\; font-size: 13px\;" />\n<br style="color: rgb(51\, 51\, 51)\; font-family: sans-serif\, Arial\, Verdana\, &quot\;Trebuchet MS&quot\;\; font-size: 13px\;" />\n<span style="color: rgb(51\, 51\, 51)\; font-family: sans-serif\, Arial\, Verdana\, &quot\;Trebuchet MS&quot\;\; font-size: 14px\;"><span style="font-family: arial\;">A professional business leaders networking reception before work the first Friday of every month. Bring business cards and your 30 second business commercial.&nbsp\;&nbsp\;<br />\n<br />\n<span style="color: rgb(255\, 0\, 0)\;"><strong>&nbsp\; &nbsp\; &nbsp\; &nbsp\;<span style="font-size: 16px\;">&nbsp\; &nbsp\;THE place to be the first Friday of every month!&nbsp\;<br />\n<br />\nAttendees between January - June\, 2020 can be entered to win a month lease of a convertible!&nbsp\; Courtesy of Great Lakes Honda in honor of the 5th Anniversary of this event!</span></strong></span></span></span></div>\n
LOCATION:Great Lakes Honda 43 Pruitt Blvd Akron\, OH 44310
UID:e.2230.2296
SEQUENCE:3
DTSTAMP:20260423T050058Z
URL:https://business.twinsburgchamber.com/events/details/canceled-first-friday-networking-on-the-go-12-chambers-of-commerce-05-01-2020-2296
END:VEVENT

END:VCALENDAR
