BEGIN:VCALENDAR
VERSION:2.0
PRODID:-//ChamberMaster//Event Calendar 2.0//EN
METHOD:PUBLISH
X-PUBLISHED-TTL:P3D
REFRESH-INTERVAL:P3D
CALSCALE:GREGORIAN
BEGIN:VEVENT
DTSTART:20210303T190000Z
DTEND:20210303T201500Z
X-MICROSOFT-CDO-ALLDAYEVENT:FALSE
SUMMARY:BWC Webinar-Reducing COVID -19 Transmission through HVAC Improvements
DESCRIPTION:This webinar provides valuable information for anyone interested in taking steps to improve their indoor air quality (IAQ) to reduce COVID-19 transmission. Presenters from the Ohio Facilities Construction Commission (OFCC) and the\n\nOhio Bureau of Workers' Compensation (BWC) will discuss a step-wise approach to assessing and managing IAQ and reducing COVID-19 transmission risks. The webinar will also discuss the BWC COVID-19 Indoor Air Quality Assistance Program\, which provides funding for eligible employers in Ohio who manage congregate care facilities for seniors.\n\n\n\nWho should attend?\n\nBusiness owners\, building owners\, facility managers\, facility engineers\, building design engineers/architects\, maintenance managers\, building operators\, EHS professionals\, treasurers\, CFOs\, and fiscal officers should attend.
X-ALT-DESC;FMTTYPE=text/html:This webinar provides valuable information for anyone interested in taking steps to improve their indoor air quality (IAQ) to reduce COVID-19 transmission. Presenters from the Ohio Facilities Construction Commission (OFCC) and the<br />\nOhio Bureau of Workers&rsquo\; Compensation (BWC) will discuss a step-wise approach to assessing and managing IAQ and reducing COVID-19 transmission risks. The webinar will also discuss the BWC COVID-19 Indoor Air Quality Assistance Program\, which provides funding for eligible employers in Ohio who manage congregate care facilities for seniors.<br />\n<br />\n<u><strong><span style="font-size:16px\;">Who should attend?</span></strong></u><br />\nBusiness owners\, building owners\, facility managers\, facility engineers\, building design engineers/architects\, maintenance managers\, building operators\, EHS professionals\, treasurers\, CFOs\, and fiscal officers should attend.<br />\n&nbsp\;
LOCATION:This is a FREE virtual event REGISTER NOW
UID:e.2230.2452
SEQUENCE:3
DTSTAMP:20260423T231802Z
URL:https://business.twinsburgchamber.com/events/details/bwc-webinar-reducing-covid-19-transmission-through-hvac-improvements-2452
END:VEVENT

END:VCALENDAR
