BEGIN:VCALENDAR
VERSION:2.0
PRODID:-//ChamberMaster//Event Calendar 2.0//EN
METHOD:PUBLISH
X-PUBLISHED-TTL:P3D
REFRESH-INTERVAL:P3D
CALSCALE:GREGORIAN
BEGIN:VEVENT
DTSTART:20240308T170000Z
DTEND:20240308T183000Z
X-MICROSOFT-CDO-ALLDAYEVENT:FALSE
SUMMARY:Business Leadership Training - Unleashing the Power of ChatGPT
DESCRIPTION:"Unleashing the Power of ChatGPT"\n\n-presented by Kent State University Computer Science Professors\, Dr. Javed Khan\, Dr. Ruoming Jin and Dr. Mikhail Nestrenko.\n\n"Join us for a captivating discussion about the world of artificial intelligence and discover how ChatGPT is revolutionizing interactive communication. Kent State professors Dr. Javed Khan\, Dr. Ruoming Jin and Dr. Mikhail Nesterenko will delve into the underlying technology and showcase how ChatGPT is trained on massive amounts of internet data\, allowing it to generate human-like responses in conversational contexts. They'll also discuss the ethical considerations and challenges associated with this AI-powered system\, and help attendees gain a deeper understanding of its future potential."
X-ALT-DESC;FMTTYPE=text/html:<u><strong><span style="font-size: 18px\;">&quot\;Unleashing the Power of ChatGPT&quot\;</span></strong></u><br />\n<em><span style="font-size: 18px\;">-presented by Kent State University Computer Science Professors\, Dr. Javed Khan\, Dr. Ruoming Jin and Dr. Mikhail Nestrenko.</span></em><br />\n<span style="font-size:16px\;"><span style="font-family:tahoma\;"><span style="color:black\;">&quot\;Join us for a captivating discussion about the world of artificial intelligence and discover how ChatGPT is revolutionizing interactive communication. Kent State professors Dr. Javed Khan\, Dr. Ruoming Jin and Dr. Mikhail Nesterenko will delve into the underlying technology and showcase how ChatGPT is trained on massive amounts of internet data\, allowing it to generate human-like responses in conversational contexts. They&rsquo\;ll also discuss the ethical considerations and challenges associated with this AI-powered system\, and help attendees gain a deeper understanding of its future potential.&quot\;</span></span></span><br />\n<br />\n<br />\n&nbsp\;\n<div class="page header-util-ct-3 " id="page" role="document" style="box-sizing: border-box\; padding: 0px\; margin: 0px\; color: rgb(34\, 34\, 34)\; font-family: NationalLight\, &quot\;Helvetica Neue&quot\;\, Helvetica\, Arial\, sans-serif\; font-size: 16px\;"><main class="l-main" id="ksu-main-container" style="box-sizing: border-box\; padding: 0px\; margin: 0px\; min-height: 75%\;">\n<div class="block-content" style="box-sizing: border-box\; padding: 0px\; margin: 0px\;">\n<article about="/cci/profile/aj-leu" class="node node-profile view-mode-full clearfix" id="node-298356" style="box-sizing: border-box\; padding: 0px\; margin: 0px\;" typeof="sioc:Item foaf:Document">\n<div class="small-12 medium-12 large-10 large-centered columns body" style="box-sizing: border-box\; padding: 0px 0.9375rem\; margin: 0px auto\; width: 974.438px\; float: none\; position: relative\;">\n<div class="panel-pane pane-node-body" style="box-sizing: border-box\; padding: 0px\; margin: 0px\;">\n<div class="pane-content" style="box-sizing: border-box\; padding: 0px\; margin: 0px\;">\n<div style="box-sizing: border-box\; padding: 0px\; margin: 0px\;">\n<div class="view view-profiles view-id-profiles view-display-id-panel_pane_6 node-type-extended-profile view-dom-id-d1ed3962a220d0c1f6c6226c76624fd8" style="box-sizing: border-box\; padding: 0px\; margin: 0px\;">\n<div class="view-content" style="box-sizing: border-box\; padding: 0px\; margin: 0px\;">\n<div style="box-sizing: border-box\; padding: 0px\; margin: 0px\;">\n<div class="panel-layout-department-directory-listing small-12 medium-12 large-12 left panel-container" style="box-sizing: border-box\; padding: 0px\; margin: 18px 0px 0px\; float: left !important\; width: 944.438px\;">\n<div class="column small-12 medium-12 large-12 department-directory-listing-body" style="box-sizing: border-box\; padding: 0px 0.9375rem\; margin: 0px 0px 20px\; width: 944.438px\; float: left\; position: relative\; display: inline-block\; clear: both\;">\n<div class="row" style="box-sizing: border-box\; padding: 0px\; margin: 0px auto\; width: 914.438px\; max-width: 75rem\;">\n<div class="views-field views-field-body-1 section-area" style="box-sizing: border-box\; padding: 0px\; margin: 0px 0px 30px\; border-top: 1px solid rgb(237\, 237\, 237)\; font-family: &quot\;Roboto Slab&quot\;\, Georgia\, &quot\;Times New Roman&quot\;\, Times\, serif\; color: rgb(11\, 3\, 24)\; overflow-wrap: break-word\;">\n<div class="field-content" style="box-sizing: border-box\; padding: 0px\; margin: 0px\;">\n<p style="box-sizing: border-box\; padding: 0px\; margin: 0px 0px 1.25rem\; font-size: 1em\; line-height: 27px\; text-rendering: optimizelegibility\;">&nbsp\;</p>\n</div>\n</div>\n</div>\n</div>\n</div>\n</div>\n</div>\n</div>\n</div>\n</div>\n</div>\n</div>\n</article>\n</div>\n</main></div>\n
LOCATION:Kent State University-Twinsburg Academic Center ROOM 132 *LUNCH IS INCLUDED*
UID:e.2230.3261
SEQUENCE:3
DTSTAMP:20260422T024959Z
URL:https://business.twinsburgchamber.com/events/details/business-leadership-training-unleashing-the-power-of-chatgpt-3261
END:VEVENT

END:VCALENDAR
