BEGIN:VCALENDAR
VERSION:2.0
PRODID:-//ChamberMaster//Event Calendar 2.0//EN
METHOD:PUBLISH
X-PUBLISHED-TTL:P3D
REFRESH-INTERVAL:P3D
CALSCALE:GREGORIAN
BEGIN:VEVENT
DTSTART:20200128T123000Z
DTEND:20200128T140000Z
X-MICROSOFT-CDO-ALLDAYEVENT:FALSE
SUMMARY:Business Leadership Training Series: Multi-Generations in the Workplace
DESCRIPTION:BUSINESS LEADERSHIP TRAINING SERIES\n\nCo-Hosted by Twinsburg Chamber of Commerce & Kent State University\, Twinsburg Academic Center\n\n\n\nTOPIC: Multi-Generations in the Workplace\n\nGUEST SPEAKER: Ned Parks\, Agegis 360 Consulting \n\n\n\nKent State University- Twinsburg Academic Center and the Twinsburg Chamber of Commerce is excited to announce a NEW leadership development program designed for anyone at any point in their career.  This is a perfect program for those experienced or emerging leaders looking to gain information on current topics leaders face.  If registrants attend all six session in the series\, they will receive a certificate of completion.  \n\n\n\n2020 Sessions:\n\nMarch 26\, 2020\n\nMay 28\, 2020\n\nJuly 23\, 2020\n\nSeptember 24\, 2020\n\nNovember 19\, 2020
X-ALT-DESC;FMTTYPE=text/html:<span style="font-size:22px\;"><span style="color:#0000CD\;"><span style="font-size:20px\;"><span style="font-family:arial\;"><b>BUSINESS LEADERSHIP TRAINING SERIES</b></span></span></span></span><br />\n<span style="font-weight:bold\;language:en-US\;"><span style="font-family:bell mt\;"><span style="font-size:18.0pt\;"><span style="font-size:16px\;">Co-Hosted by Twinsburg Chamber of Commerce &amp\; Kent State University\, Twinsburg Academic Center</span><br />\n<br />\n<strong>TOPIC: Multi-Generations in the Workplace<br />\nGUEST SPEAKER: Ned Parks\, Agegis 360 Consulting&nbsp\;</strong><br />\n<br />\n<span style="font-size:16px\;">Kent State University- Twinsburg Academic Center and the Twinsburg Chamber of Commerce is excited to announce a NEW leadership development program designed for anyone at any point in their career.&nbsp\; This is a perfect program for those experienced or emerging leaders looking to gain information on current topics leaders face.&nbsp\; If registrants attend all six session in the series\, they will receive a certificate of completion.&nbsp\;&nbsp\;<br />\n<br />\n<span style="font-size:14px\;"><span style="font-family:arial\;">2020 Sessions:<br />\nMarch 26\, 2020<br />\nMay 28\, 2020<br />\nJuly 23\, 2020<br />\nSeptember 24\, 2020<br />\nNovember 19\, 2020</span></span></span></span></span></span><br />\n&nbsp\;
LOCATION:Kent State University - Twinsburg Academic Center 2745 Creekside Drive Twinsburg\, OH 44087
UID:e.2230.2290
SEQUENCE:3
DTSTAMP:20260422T195500Z
URL:https://business.twinsburgchamber.com/events/details/business-leadership-training-series-multi-generations-in-the-workplace-2290
END:VEVENT

END:VCALENDAR
