BEGIN:VCALENDAR
VERSION:2.0
PRODID:-//ChamberMaster//Event Calendar 2.0//EN
METHOD:PUBLISH
X-PUBLISHED-TTL:P3D
REFRESH-INTERVAL:P3D
CALSCALE:GREGORIAN
BEGIN:VEVENT
DTSTART:20220324T160000Z
DTEND:20220324T170000Z
X-MICROSOFT-CDO-ALLDAYEVENT:FALSE
SUMMARY:Business Leadership Training - Living Your Life as a Leader
DESCRIPTION:"Living Your Life as a Leader" presented by Judson Kline\n\n \n\n\n\n\n\n\n\n\n\n\n\n\n\n\n\n"Living Your Life as a Leader" will be presented by Judson Kline\, Adjunct Faculty Member\, Kent State University Geauga and Twinsburg Academic Center. Leadership is essential to guide socially responsible solutions to the challenges we face societally falling into the areas of education\; the environment\; food security\; health\; energy\; shelter\; and work. We can affect the outcomes in these areas for our communities through our own engagement. How might we design and create a pathway for community leadership? This session will consider developing a means to live your life as a leader.
X-ALT-DESC;FMTTYPE=text/html:<u><strong><span style="font-size: 18px\;">&quot\;Living Your Life as a Leader<i>&quot\; presented by Judson Kline</i></span></strong></u><br />\n&nbsp\;\n<div class="page header-util-ct-3 " id="page" role="document" style="box-sizing: border-box\; padding: 0px\; margin: 0px\; color: rgb(34\, 34\, 34)\; font-family: NationalLight\, &quot\;Helvetica Neue&quot\;\, Helvetica\, Arial\, sans-serif\; font-size: 16px\;"><main class="l-main" id="ksu-main-container" style="box-sizing: border-box\; padding: 0px\; margin: 0px\; min-height: 75%\;">\n<div class="block-content" style="box-sizing: border-box\; padding: 0px\; margin: 0px\;">\n<article about="/cci/profile/aj-leu" class="node node-profile view-mode-full clearfix" id="node-298356" style="box-sizing: border-box\; padding: 0px\; margin: 0px\;" typeof="sioc:Item foaf:Document">\n<div class="small-12 medium-12 large-10 large-centered columns body" style="box-sizing: border-box\; padding: 0px 0.9375rem\; margin: 0px auto\; width: 974.438px\; float: none\; position: relative\;">\n<div class="panel-pane pane-node-body" style="box-sizing: border-box\; padding: 0px\; margin: 0px\;">\n<div class="pane-content" style="box-sizing: border-box\; padding: 0px\; margin: 0px\;">\n<div style="box-sizing: border-box\; padding: 0px\; margin: 0px\;">\n<div class="view view-profiles view-id-profiles view-display-id-panel_pane_6 node-type-extended-profile view-dom-id-d1ed3962a220d0c1f6c6226c76624fd8" style="box-sizing: border-box\; padding: 0px\; margin: 0px\;">\n<div class="view-content" style="box-sizing: border-box\; padding: 0px\; margin: 0px\;">\n<div style="box-sizing: border-box\; padding: 0px\; margin: 0px\;">\n<div class="panel-layout-department-directory-listing small-12 medium-12 large-12 left panel-container" style="box-sizing: border-box\; padding: 0px\; margin: 18px 0px 0px\; float: left !important\; width: 944.438px\;">\n<div class="column small-12 medium-12 large-12 department-directory-listing-body" style="box-sizing: border-box\; padding: 0px 0.9375rem\; margin: 0px 0px 20px\; width: 944.438px\; float: left\; position: relative\; display: inline-block\; clear: both\;">\n<div class="row" style="box-sizing: border-box\; padding: 0px\; margin: 0px auto\; width: 914.438px\; max-width: 75rem\;">\n<div class="views-field views-field-body-1 section-area" style="box-sizing: border-box\; padding: 0px\; margin: 0px 0px 30px\; border-top: 1px solid rgb(237\, 237\, 237)\; font-family: &quot\;Roboto Slab&quot\;\, Georgia\, &quot\;Times New Roman&quot\;\, Times\, serif\; color: rgb(11\, 3\, 24)\; overflow-wrap: break-word\;">\n<div class="field-content" style="box-sizing: border-box\; padding: 0px\; margin: 0px\;">\n<p style="box-sizing: border-box\; padding: 0px\; margin: 0px 0px 1.25rem\; font-size: 1em\; line-height: 27px\; text-rendering: optimizelegibility\;">&quot\;Living Your Life as a Leader&rdquo\; will be presented by Judson Kline\, Adjunct Faculty Member\, Kent State University Geauga and Twinsburg Academic Center. Leadership is essential to guide socially responsible solutions to the challenges we face societally falling into the areas of education\; the environment\; food security\; health\; energy\; shelter\; and work. We can affect the outcomes in these areas for our communities through our own engagement. How might we design and create a pathway for community leadership? This session will consider developing a means to live your life as a leader.<br />\n&nbsp\;</p>\n</div>\n</div>\n</div>\n</div>\n</div>\n</div>\n</div>\n</div>\n</div>\n</div>\n</div>\n</div>\n</article>\n</div>\n</main></div>\n
LOCATION:THIS IS A VIRTUAL EVENT
UID:e.2230.3174
SEQUENCE:3
DTSTAMP:20260424T115031Z
URL:https://business.twinsburgchamber.com/events/details/business-leadership-training-living-your-life-as-a-leader-3174
END:VEVENT

END:VCALENDAR
