BEGIN:VCALENDAR
VERSION:2.0
PRODID:-//ChamberMaster//Event Calendar 2.0//EN
METHOD:PUBLISH
X-PUBLISHED-TTL:P3D
REFRESH-INTERVAL:P3D
CALSCALE:GREGORIAN
BEGIN:VEVENT
DTSTART:20220120T170000Z
DTEND:20220120T180000Z
X-MICROSOFT-CDO-ALLDAYEVENT:FALSE
SUMMARY:Business Leadership Training - DEI&B 101: An Introduction to Diversity\, Equity\, Inclusion & Belonging
DESCRIPTION:"DEI&B 101:  An Introduction to Diversity\, Equity\, Inclusion & Belonging" presented by AJ Leu\n\n \n\n\n\n\n\n\n\n\n\n\n\n\n\n\n\nAJ Leu (they/them) is the Diversity and Career Development Director in the College of Communication and Information at Kent State University. Leu is an experienced diversity\, equity\, inclusion\, and belonging (DEI&B) professional and an active member of the National Association of Diversity Officers in Higher Education and the National Diversity Council. Leu is a Kent State alumna who graduated with a Bachelor of Science in 2012\, a Master of Education in Higher Education and Student Personnel in 2014\, a Graduate Certificate in College Teaching in 2015\, and a Graduate Certificate in Institutional Research and Assessment in 2016. Leu has a demonstrated passion and commitment for various topics related to DEI&B\, including identity development\, competency and best practice trainings\, employee resource groups\, and student success and retention initiatives.
X-ALT-DESC;FMTTYPE=text/html:<u><strong><span style="font-size: 18px\;">&quot\;DEI&amp\;B 101:&nbsp\; An Introduction to Diversity\, Equity\, Inclusion &amp\; Belonging<i>&quot\; presented by AJ Leu</i></span></strong></u><br />\n&nbsp\;\n<div class="page header-util-ct-3 " id="page" role="document" style="box-sizing: border-box\; padding: 0px\; margin: 0px\; color: rgb(34\, 34\, 34)\; font-family: NationalLight\, &quot\;Helvetica Neue&quot\;\, Helvetica\, Arial\, sans-serif\; font-size: 16px\;"><main class="l-main" id="ksu-main-container" style="box-sizing: border-box\; padding: 0px\; margin: 0px\; min-height: 75%\;">\n<div class="block-content" style="box-sizing: border-box\; padding: 0px\; margin: 0px\;">\n<article about="/cci/profile/aj-leu" class="node node-profile view-mode-full clearfix" id="node-298356" style="box-sizing: border-box\; padding: 0px\; margin: 0px\;" typeof="sioc:Item foaf:Document">\n<div class="small-12 medium-12 large-10 large-centered columns body" style="box-sizing: border-box\; padding: 0px 0.9375rem\; margin: 0px auto\; width: 974.438px\; float: none\; position: relative\;">\n<div class="panel-pane pane-node-body" style="box-sizing: border-box\; padding: 0px\; margin: 0px\;">\n<div class="pane-content" style="box-sizing: border-box\; padding: 0px\; margin: 0px\;">\n<div style="box-sizing: border-box\; padding: 0px\; margin: 0px\;">\n<div class="view view-profiles view-id-profiles view-display-id-panel_pane_6 node-type-extended-profile view-dom-id-d1ed3962a220d0c1f6c6226c76624fd8" style="box-sizing: border-box\; padding: 0px\; margin: 0px\;">\n<div class="view-content" style="box-sizing: border-box\; padding: 0px\; margin: 0px\;">\n<div style="box-sizing: border-box\; padding: 0px\; margin: 0px\;">\n<div class="panel-layout-department-directory-listing small-12 medium-12 large-12 left panel-container" style="box-sizing: border-box\; padding: 0px\; margin: 18px 0px 0px\; float: left !important\; width: 944.438px\;">\n<div class="column small-12 medium-12 large-12 department-directory-listing-body" style="box-sizing: border-box\; padding: 0px 0.9375rem\; margin: 0px 0px 20px\; width: 944.438px\; float: left\; position: relative\; display: inline-block\; clear: both\;">\n<div class="row" style="box-sizing: border-box\; padding: 0px\; margin: 0px auto\; width: 914.438px\; max-width: 75rem\;">\n<div class="views-field views-field-body-1 section-area" style="box-sizing: border-box\; padding: 0px\; margin: 0px 0px 30px\; border-top: 1px solid rgb(237\, 237\, 237)\; font-family: &quot\;Roboto Slab&quot\;\, Georgia\, &quot\;Times New Roman&quot\;\, Times\, serif\; color: rgb(11\, 3\, 24)\; overflow-wrap: break-word\;">\n<div class="field-content" style="box-sizing: border-box\; padding: 0px\; margin: 0px\;">\n<p style="box-sizing: border-box\; padding: 0px\; margin: 0px 0px 1.25rem\; font-size: 1em\; line-height: 27px\; text-rendering: optimizelegibility\;"><span class="panel-inner-wrap clearfix" style="box-sizing: border-box\; padding: 0px\; margin: 0px\;"><span class="panel-inner-wrap clearfix" style="box-sizing: border-box\; padding: 0px\; margin: 0px\;">AJ Leu (they/them) is the Diversity and Career Development Director in the College of Communication and Information at Kent State University. Leu is an experienced diversity\, equity\, inclusion\, and belonging (DEI&amp\;B) professional and an active member of the National Association of Diversity Officers in Higher Education and the National Diversity Council. Leu is a Kent State alumna who graduated with a Bachelor of Science in 2012\, a Master of Education in Higher Education and Student Personnel in 2014\, a Graduate Certificate in College Teaching in 2015\, and a Graduate Certificate in Institutional Research and Assessment in 2016. Leu has a demonstrated passion and commitment for various topics related to DEI&amp\;B\, including identity development\, competency and best practice trainings\, employee resource groups\, and student success and retention initiatives.</span></span></p>\n</div>\n</div>\n</div>\n</div>\n</div>\n</div>\n</div>\n</div>\n</div>\n</div>\n</div>\n</div>\n\n<div class="large-1 columns" style="box-sizing: border-box\; padding: 0px 0.9375rem\; margin: 0px\; width: 97.4375px\; float: right\; position: relative\;">&nbsp\;</div>\n</article>\n</div>\n</main></div>\n
LOCATION:THIS IS A VIRTUAL EVENT
UID:e.2230.3129
SEQUENCE:3
DTSTAMP:20260424T160630Z
URL:https://business.twinsburgchamber.com/events/details/business-leadership-training-dei-b-101-an-introduction-to-diversity-equity-inclusion-belonging-3129
END:VEVENT

END:VCALENDAR
