BEGIN:VCALENDAR
VERSION:2.0
PRODID:-//ChamberMaster//Event Calendar 2.0//EN
METHOD:PUBLISH
X-PUBLISHED-TTL:P3D
REFRESH-INTERVAL:P3D
CALSCALE:GREGORIAN
BEGIN:VEVENT
DTSTART:20190904T220000Z
DTEND:20190905T000000Z
X-MICROSOFT-CDO-ALLDAYEVENT:FALSE
SUMMARY:Business After Hours: Multi-Chamber Mixer
DESCRIPTION:Register Here!\n\n\n\nJoin Twinsburg\, Streetsboro\, Ravenna\, Kent\, Hudson\, Fairlawn\, Cuyahoga Falls\, and the Aurora Chambers of Commerce for a Multi-Chamber Networking Business After Hours!\n\n\n\n8 Chambers from 2 Counties are coming together with a gathering of business professionals and a GUARANTEE that you WILL meet NEW business contacts! We'll make the plans\, you mark your calendar and bring your business cards!
X-ALT-DESC;FMTTYPE=text/html:<span style="font-size:14px\;"><span style="font-family:arial\;">&nbsp\; &nbsp\; &nbsp\; &nbsp\; &nbsp\; &nbsp\; &nbsp\; &nbsp\; &nbsp\; &nbsp\; &nbsp\; &nbsp\; &nbsp\; &nbsp\; &nbsp\; &nbsp\; &nbsp\; &nbsp\;<br />\n&nbsp\;&nbsp\; &nbsp\; &nbsp\; &nbsp\; &nbsp\; &nbsp\; &nbsp\; &nbsp\; &nbsp\; &nbsp\; &nbsp\; &nbsp\; &nbsp\; &nbsp\; &nbsp\; &nbsp\; &nbsp\; &nbsp\; &nbsp\;&nbsp\;<a href="http://www.streetsborochamber.org/events/details/multi-chamber-business-after-hours-3570"><span style="font-size:20px\;">Register Here!</span></a><br />\n<br />\nJoin Twinsburg\, Streetsboro\, Ravenna\, Kent\, Hudson\, Fairlawn\, Cuyahoga Falls\, and the Aurora Chambers of Commerce for a Multi-Chamber Networking Business After Hours!<br />\n<br />\n<span style="color:#FF0000\;"><strong>8 Chambers from 2 Counties</strong></span> are coming together with a gathering of business professionals and a <strong>GUARANTEE</strong>&nbsp\;that you <strong>WILL</strong> meet <strong>NEW</strong> business contacts! We&#39\;ll make the plans\, you mark your calendar and bring your business cards!</span></span>
LOCATION:Nissan Streetsboro 885 Classic Drive Streetboro\, OH
UID:e.2230.2203
SEQUENCE:3
DTSTAMP:20260422T144748Z
URL:https://business.twinsburgchamber.com/events/details/business-after-hours-multi-chamber-mixer-2203
END:VEVENT

END:VCALENDAR
