BEGIN:VCALENDAR
VERSION:2.0
PRODID:-//ChamberMaster//Event Calendar 2.0//EN
METHOD:PUBLISH
X-PUBLISHED-TTL:P3D
REFRESH-INTERVAL:P3D
CALSCALE:GREGORIAN
BEGIN:VEVENT
DTSTART:20210225T210000Z
DTEND:20210225T230000Z
X-MICROSOFT-CDO-ALLDAYEVENT:FALSE
SUMMARY:Business After Hours
DESCRIPTION:Join us for a Business After Hours gathering!\n\nThursday\, February 25\n\n4:00 - 6:00 PM\n\n\n\nGrab a cocktail & re-connect with friends and members! \n\n(Light bites provided / Cash Bar)\n\n\n\n*RSVP REQUIRED to ensure capacity for social distancing - Limited to 25 guests!
X-ALT-DESC;FMTTYPE=text/html:<span style="font-size:16px\;">Join us for a Business After Hours gathering!<br />\n<span style="color: rgb(51\, 51\, 51)\; font-family: sans-serif\, Arial\, Verdana\, &quot\;Trebuchet MS&quot\;\; background-color: rgb(255\, 255\, 255)\;">Thursday\, February 25</span><br style="color: rgb(51\, 51\, 51)\; font-family: sans-serif\, Arial\, Verdana\, &quot\;Trebuchet MS&quot\;\; font-size: 13px\;" />\n<span style="color: rgb(51\, 51\, 51)\; font-family: sans-serif\, Arial\, Verdana\, &quot\;Trebuchet MS&quot\;\; background-color: rgb(255\, 255\, 255)\;">4:00 - 6:00 PM</span><br />\n<br />\nGrab a cocktail &amp\; re-connect with friends and members!&nbsp\;<br />\n(Light bites provided / Cash Bar)<br />\n<br />\n<em><strong><span style="color:#FF0000\;">*RSVP REQUIRED to ensure capacity for social distancing - Limited to 25 guests!</span></strong></em></span>
LOCATION:Aaron & Moses 2615 Glenwood Drive
UID:e.2230.2426
SEQUENCE:3
DTSTAMP:20260423T213333Z
URL:https://business.twinsburgchamber.com/events/details/business-after-hours-2426
END:VEVENT

END:VCALENDAR
