BEGIN:VCALENDAR
VERSION:2.0
PRODID:-//ChamberMaster//Event Calendar 2.0//EN
METHOD:PUBLISH
X-PUBLISHED-TTL:P3D
REFRESH-INTERVAL:P3D
CALSCALE:GREGORIAN
BEGIN:VEVENT
DTSTART:20170628T210000Z
DTEND:20170628T230000Z
X-MICROSOFT-CDO-ALLDAYEVENT:FALSE
SUMMARY:Building Bridges: Connecting Women Across Northeast Ohio
DESCRIPTION:Join us for an engaging evening of New Faces\, Networking and New Opportunities! Participating Chambers include: Twinsburg\, Solon\, Nordonia Hills\, South Summit\, Beachwood\, & Streetsboro Chambers of Commerce women's groups.
X-ALT-DESC;FMTTYPE=text/html:<br />\n<span style="font-size:14px\;"><span style="font-family:arial\;"><span style="color:#4B0082\;">Join us for an engaging evening of New Faces\, Networking and New Opportunities! Participating Chambers include: Twinsburg\, Solon\, Nordonia Hills\, South Summit\, Beachwood\, &amp\; Streetsboro Chambers of Commerce women&#39\;s groups.</span></span></span>
LOCATION:Tri-C Eastern Campus\, Performing Arts Lobby 4250 Richmond Rd. Highland Hills\, OH 44122
UID:e.2230.1754
SEQUENCE:3
DTSTAMP:20260420T143315Z
URL:https://business.twinsburgchamber.com/events/details/building-bridges-connecting-women-across-northeast-ohio-1754
END:VEVENT

END:VCALENDAR
