BEGIN:VCALENDAR
VERSION:2.0
PRODID:-//ChamberMaster//Event Calendar 2.0//EN
METHOD:PUBLISH
X-PUBLISHED-TTL:P3D
REFRESH-INTERVAL:P3D
CALSCALE:GREGORIAN
BEGIN:VEVENT
DTSTART;VALUE=DATE:20161013
DTEND;VALUE=DATE:20161015
TRANSP:TRANSPARENT
X-MICROSOFT-CDO-ALLDAYEVENT:TRUE
SUMMARY:BizConCLE - Small Business Convention Sponsored by COSE
DESCRIPTION:BizConCLE is a unique education and networking experience exclusively designed for small and middle-market company CEOs\, C-Suite\, and their employees.  The one-and-a-half-day convention is the coming together of the award-winning COSE Small Business Convention (now in it's 11th year!) and the GCP Middle Market Forum.  It includes national keynote speakers\, plenary sessions led by regional business and community leaders\, and hands-on workshops in areas like Talent\, People and HR\; Marketing\, Customers and Branding\; Business Growth\, Sales & Financials\; and Owner\, Leader and Team Development. There's also a full exhibit hall\, networking dinners hosted throughout downtown Cleveland\, and multiple opportunities to connect through industry focused round-tables and networking receptions.   \n\n\n\n \n\nThe Convention will take place October 13-14\, 2016 at Cleveland Public Auditorium & Conference Center in Cleveland\, Ohio.\n\nFor more information and to register\, visit www.bizconcle.com.
X-ALT-DESC;FMTTYPE=text/html:&nbsp\;\n<p style="box-sizing: inherit\; -webkit-font-smoothing: antialiased\; margin: 0px\; line-height: 1.2em\; color: rgb(124\, 135\, 142)\; font-size: 0.8em\; font-family: Helvetica\, Arial\, sans-serif\;"><span style="color:#696969\;"><span style="font-size:14px\;"><span style="font-family:arial\;">BizConCLE is a unique education and networking experience exclusively designed for small and middle-market company CEOs\, C-Suite\, and their employees.&nbsp\; The one-and-a-half-day convention is the coming together of the award-winning COSE Small Business Convention (now in it&#39\;s 11th year!) and the GCP Middle Market Forum.&nbsp\; It includes national keynote speakers\, plenary sessions led by regional business and community leaders\, and hands-on workshops in areas like Talent\, People and HR\; Marketing\, Customers and Branding\; Business Growth\, Sales &amp\; Financials\; and Owner\, Leader and Team Development. There&rsquo\;s also a full exhibit hall\, networking dinners hosted throughout downtown Cleveland\, and multiple opportunities to connect through industry focused round-tables and networking receptions. &nbsp\;&nbsp\;</span></span></span><br style="box-sizing: inherit\; -webkit-font-smoothing: antialiased\;" />\n<br style="box-sizing: inherit\; -webkit-font-smoothing: antialiased\;" />\n&nbsp\;</p>\n\n<p style="box-sizing: inherit\; -webkit-font-smoothing: antialiased\; margin: 0px\; line-height: 1.2em\; color: rgb(124\, 135\, 142)\; font-size: 0.8em\; font-family: Helvetica\, Arial\, sans-serif\;"><span style="color:#696969\;"><span style="font-size:14px\;"><span style="font-family:arial\;">The Convention will take place October 13-14\, 2016 at Cleveland Public Auditorium &amp\; Conference Center in Cleveland\, Ohio.</span></span></span></p>\n\n<p style="box-sizing: inherit\; -webkit-font-smoothing: antialiased\; margin: 0px\; line-height: 1.2em\; color: rgb(124\, 135\, 142)\; font-size: 0.8em\; font-family: Helvetica\, Arial\, sans-serif\;"><span style="font-size:14px\;"><span style="font-family:arial\;"><span style="color:#696969\;">For more information and to register\, visit</span><span style="color:#000000\;">&nbsp\;</span><a href="http://www.bizconcle.com." target="_blank"><span style="color:#0000FF\;">www.bizconcle.com</span></a><span style="color:#0000FF\;">.</span></span></span></p>\n
LOCATION:Cleveland Public Auditorium 500 Lakeside Ave. Cleveland\, Ohio 44114
UID:e.2230.1667
SEQUENCE:3
DTSTAMP:20260420T002029Z
URL:https://business.twinsburgchamber.com/events/details/bizconcle-small-business-convention-sponsored-by-cose-1667
END:VEVENT

END:VCALENDAR
