BEGIN:VCALENDAR
VERSION:2.0
PRODID:-//ChamberMaster//Event Calendar 2.0//EN
METHOD:PUBLISH
X-PUBLISHED-TTL:P3D
REFRESH-INTERVAL:P3D
CALSCALE:GREGORIAN
BEGIN:VEVENT
DTSTART:20250515T200000Z
DTEND:20250515T230000Z
X-MICROSOFT-CDO-ALLDAYEVENT:FALSE
SUMMARY:Bags\, Brews & BBQ Fundraiser-Cornhole Tournament
DESCRIPTION:BAGS\, BREWS & BBQ Fundraiser benefitting Our Community Hunger Center in Twinsburg AND The Hudson Food Pantry.\n	2 Person Teams* \n	Cash Prizes*\n\nSponsored by Strachan Novak and HiHo Brewing Company
X-ALT-DESC;FMTTYPE=text/html:<ul>\n	<li><strong><span style="font-size:20px\;"><span style="font-family:tahoma\;">BAGS\, BREWS &amp\; BBQ Fundraiser benefitting Our Community Hunger Center in Twinsburg AND The Hudson Food Pantry.</span></span></strong></li>\n	<li><span style="font-size:16px\;"><span style="font-family:tahoma\;"><span style="font-family:tahoma\;">2 Person Teams*</span></span>&nbsp\;</span></li>\n	<li><span style="font-size:16px\;"><span style="font-family:tahoma\;"><span style="font-family:tahoma\;"><span style="font-family:tahoma\;">Cash Prizes*</span></span></span></span></li>\n</ul>\n<em><span style="font-size:14px\;"><span style="font-family:tahoma\;"><span style="font-family:tahoma\;"><span style="font-family:tahoma\;">Sponsored by <a href="https://www.sn-insure.com/">Strachan Novak</a> and <a href="https://www.hihobrewingco.com/">HiHo Brewing Company</a></span></span></span></span></em>
LOCATION:Strachan Novak Insurance 2190 E. Enterprise Pkwy\, Twinsburg
UID:e.2230.3295
SEQUENCE:3
DTSTAMP:20260421T180508Z
URL:https://business.twinsburgchamber.com/events/details/bags-brews-bbq-fundraiser-cornhole-tournament-3295
END:VEVENT

END:VCALENDAR
