BEGIN:VCALENDAR
VERSION:2.0
PRODID:-//ChamberMaster//Event Calendar 2.0//EN
METHOD:PUBLISH
X-PUBLISHED-TTL:P3D
REFRESH-INTERVAL:P3D
CALSCALE:GREGORIAN
BEGIN:VEVENT
DTSTART:20241114T210000Z
DTEND:20241114T230000Z
X-MICROSOFT-CDO-ALLDAYEVENT:FALSE
SUMMARY:Autumn Harvest Sip & Connect
DESCRIPTION:Join us for an engaging evening of networking at Maplewood at Twinsburg\, in partnership with the Twinsburg Chamber of Commerce! Connect with local professionals\, share ideas\, and expand your network while enjoying complimentary appetizers and a drink. Embrace the spirit of fall as we gather to celebrate community and collaboration.\n\n\n\nDon't miss this opportunity to forge valuable connections in a warm and welcoming environment!
X-ALT-DESC;FMTTYPE=text/html:<span style="font-size:22px\;">Join us for an engaging evening of networking at Maplewood at Twinsburg\, in partnership with the Twinsburg Chamber of Commerce! Connect with local professionals\, share ideas\, and expand your network while enjoying complimentary appetizers and a drink. Embrace the spirit of fall as we gather to celebrate community and collaboration.<br />\n<br />\nDon&rsquo\;t miss this opportunity to forge valuable connections in a warm and welcoming environment!</span>
LOCATION:Maplewood at Twinsburg 2463 Sussex Blvd. Twinsburg
UID:e.2230.3279
SEQUENCE:3
DTSTAMP:20260421T145839Z
URL:https://business.twinsburgchamber.com/events/details/autumn-harvest-sip-connect-3279
END:VEVENT

END:VCALENDAR
