BEGIN:VCALENDAR
VERSION:2.0
PRODID:-//ChamberMaster//Event Calendar 2.0//EN
METHOD:PUBLISH
X-PUBLISHED-TTL:P3D
REFRESH-INTERVAL:P3D
CALSCALE:GREGORIAN
BEGIN:VEVENT
DTSTART:20231114T170000Z
DTEND:20231114T190000Z
X-MICROSOFT-CDO-ALLDAYEVENT:FALSE
SUMMARY:Autumn Harvest Luncheon
DESCRIPTION:Join us for our last networking lunch of the year!  Featuring Tanisha Taylor\, owner of Tanisha Taylor Coaching.  "Transitioning from Career to Entrepreneurship."\n\n*please note this is a 2 hour event
X-ALT-DESC;FMTTYPE=text/html:<span style="font-size:16px\;"><span style="font-size:20px\;">Join us for our last networking lunch of the year!&nbsp\; Featuring Tanisha Taylor\, owner of Tanisha Taylor Coaching.&nbsp\; <span style="color:#FF0000\;"><em><strong>&quot\;Transitioning from Career to Entrepreneurship.&quot\;</strong></em></span></span><br />\n<em>*please note this is a 2 hour event</em></span>
LOCATION:TULUM 8910 Hadden Road Twinsburg\, OH
UID:e.2230.3252
SEQUENCE:3
DTSTAMP:20260421T190136Z
URL:https://business.twinsburgchamber.com/events/details/autumn-harvest-luncheon-3252
END:VEVENT

END:VCALENDAR
