BEGIN:VCALENDAR
VERSION:2.0
PRODID:-//ChamberMaster//Event Calendar 2.0//EN
METHOD:PUBLISH
X-PUBLISHED-TTL:P3D
REFRESH-INTERVAL:P3D
CALSCALE:GREGORIAN
BEGIN:VEVENT
DTSTART:20160218T133000Z
DTEND:20160218T150000Z
X-MICROSOFT-CDO-ALLDAYEVENT:FALSE
SUMMARY:Annual State of the City Address with Newly Elected Mayor Ted Yates
DESCRIPTION:-SOLD OUT-                   \n\n\n	Learn about the City of Twinsburg accomplishments in 2015\n	Hear about the Mayor's vision for the future of the City
X-ALT-DESC;FMTTYPE=text/html:<span style="font-size:18px\;"><strong><span style="color:#FF0000\;">&nbsp\; &nbsp\; &nbsp\; &nbsp\; &nbsp\; &nbsp\; &nbsp\; &nbsp\; &nbsp\; &nbsp\; &nbsp\; &nbsp\; &nbsp\; &nbsp\; &nbsp\; &nbsp\; -SOLD OUT- &nbsp\; &nbsp\; &nbsp\; &nbsp\; &nbsp\; &nbsp\; &nbsp\; &nbsp\; &nbsp\;&nbsp\;</span></strong></span>\n\n<ul>\n	<li><span style="font-size:14px\;"><span style="font-family:arial\;">Learn about the City of Twinsburg&nbsp\;accomplishments in 2015</span></span></li>\n	<li><span style="font-size:14px\;"><span style="font-family:arial\;">Hear about the Mayor&#39\;s vision for the future of the City</span></span></li>\n</ul>\n
LOCATION:Hilton Garden Inn 8971 Wilcox Drive Twinsburg\, OH 44087
UID:e.2230.312
SEQUENCE:3
DTSTAMP:20260421T104524Z
URL:https://business.twinsburgchamber.com/events/details/annual-state-of-the-city-address-with-newly-elected-mayor-ted-yates-02-18-2016-312
END:VEVENT

END:VCALENDAR
