BEGIN:VCALENDAR
VERSION:2.0
PRODID:-//ChamberMaster//Event Calendar 2.0//EN
METHOD:PUBLISH
X-PUBLISHED-TTL:P3D
REFRESH-INTERVAL:P3D
CALSCALE:GREGORIAN
BEGIN:VEVENT
DTSTART:20180215T123000Z
DTEND:20180215T141500Z
X-MICROSOFT-CDO-ALLDAYEVENT:FALSE
SUMMARY:Annual State of the City Address with Mayor Ted Yates\, City of Twinsburg
DESCRIPTION:Entering his third year in office\, Mayor Yates will discuss accomplishments of 2017 and his vision for the future of the City.
X-ALT-DESC;FMTTYPE=text/html:Entering his third year in office\, Mayor Yates will discuss accomplishments of 2017 and his vision for the future of the City.&nbsp\;&nbsp\;
LOCATION:Hilton Garden Inn 8971 Wilcox Drive Twinsburg\, OH 44087
UID:e.2230.1783
SEQUENCE:3
DTSTAMP:20260421T054835Z
URL:https://business.twinsburgchamber.com/events/details/annual-state-of-the-city-address-with-mayor-ted-yates-city-of-twinsburg-1783
END:VEVENT

END:VCALENDAR
