BEGIN:VCALENDAR
VERSION:2.0
PRODID:-//ChamberMaster//Event Calendar 2.0//EN
METHOD:PUBLISH
X-PUBLISHED-TTL:P3D
REFRESH-INTERVAL:P3D
CALSCALE:GREGORIAN
BEGIN:VEVENT
DTSTART:20170216T123000Z
DTEND:20170216T141500Z
X-MICROSOFT-CDO-ALLDAYEVENT:FALSE
SUMMARY:Annual State of the City Address with Mayor Ted Yates
DESCRIPTION:Learn about the City of Twinsburg accomplishments in 2016\n	Hear about the Mayor's vision for the future of the City
X-ALT-DESC;FMTTYPE=text/html:&nbsp\;\n<ul>\n	<li><span style="font-size:14px\;"><span style="font-family:arial\;">Learn about the City of Twinsburg&nbsp\;accomplishments in 2016</span></span></li>\n	<li><span style="font-size:14px\;"><span style="font-family:arial\;">Hear about the Mayor&#39\;s vision for the future of the City</span></span></li>\n</ul>\n
LOCATION:Hilton Garden Inn 8971 Wilcox Drive Twinsburg\, OH 44087
UID:e.2230.1701
SEQUENCE:3
DTSTAMP:20260420T073922Z
URL:https://business.twinsburgchamber.com/events/details/annual-state-of-the-city-address-with-mayor-ted-yates-1701
END:VEVENT

END:VCALENDAR
