BEGIN:VCALENDAR
VERSION:2.0
PRODID:-//ChamberMaster//Event Calendar 2.0//EN
METHOD:PUBLISH
X-PUBLISHED-TTL:P3D
REFRESH-INTERVAL:P3D
CALSCALE:GREGORIAN
BEGIN:VEVENT
DTSTART:20161215T160000Z
DTEND:20161215T181500Z
X-MICROSOFT-CDO-ALLDAYEVENT:FALSE
SUMMARY:Annual Holiday Luncheon and Business Person of the Year Award *New this year - Mini Business Expo!
DESCRIPTION:Mini Business Expo Tables SOLD OUT!\n\n\n\nPlease join us as we kick off the holiday season and celebrate the Twinsburg Chamber's 2016 BUSINESS PERSON OF THE YEAR!\n\nCould it be you? Award to be presented by Peter DeSouza\, 2015 Business  Person of the Year!\n\n\n\nNEW this year! We will be hosting a mini business networking expo from 11:00am 12:00pm! Tables can be purchased for $100 for Members| $125 Non-Members (includes lunch). Call the Chamber to reserve your spot! *Limited availability\n\n \n\nEntertainment provided by Twinsburg High School Great Expectations Show Choir
X-ALT-DESC;FMTTYPE=text/html:<span style="font-size:18px\;"><span style="color:#FF0000\;"><strong>Mini Business Expo Tables SOLD OUT!</strong></span></span><br />\n<br />\n<span style="font-size:14px\;"><span style="font-family:arial\;">Please join us as we kick off the holiday season and celebrate the Twinsburg Chamber&rsquo\;s&nbsp\;<span style="color:#cc0000\;"><span style="font-weight:bold\;language:en-US\;">2016 BUSINESS PERSON OF THE YEAR!</span></span><br />\n<span style="font-style:italic\;font-weight:bold\;language:en-US\;"><span style="color:#006600\;">Could it be you?</span><span style="color:#517A51\;">&nbsp\;</span></span>Award to be presented by Peter DeSouza\, 2015 Business&nbsp\; Person of the Year!<br />\n<br />\n<span style="font-weight:bold\;language:en-US\;"><span style="color:#CC0033\;">NEW this year! We will be hosting a mini business networking expo from 11:00am&mdash\;12:00pm! Tables can be purchased for $100 for Members| $125 Non-Members (includes lunch). Call the Chamber to reserve your spot! </span></span><span style="font-style:italic\;font-weight:bold\;language:en-US\;"><span style="color:#CC0033\;">*Limited availability</span></span></span></span><br />\n<span style="font-family:arial\;">&nbsp\;</span><br />\n<span style="color: rgb(204\, 0\, 0)\; font-family: arial\; font-size: 14px\; font-style: italic\; line-height: 22.4px\; background-color: rgb(255\, 255\, 255)\;">Entertainment provided by Twinsburg High School Great Expectations Show Choir</span><br />\n&nbsp\;
LOCATION:Hilton Garden Inn 8971 Wilcox Drive Twinsburg\, OH 44087
UID:e.2230.1671
SEQUENCE:3
DTSTAMP:20260420T040458Z
URL:https://business.twinsburgchamber.com/events/details/annual-holiday-luncheon-and-business-person-of-the-year-award-new-this-year-mini-business-expo-1671
END:VEVENT

END:VCALENDAR
