BEGIN:VCALENDAR
VERSION:2.0
PRODID:-//ChamberMaster//Event Calendar 2.0//EN
METHOD:PUBLISH
X-PUBLISHED-TTL:P3D
REFRESH-INTERVAL:P3D
CALSCALE:GREGORIAN
BEGIN:VEVENT
DTSTART:20191212T163000Z
DTEND:20191212T181500Z
X-MICROSOFT-CDO-ALLDAYEVENT:FALSE
SUMMARY:Annual Holiday Luncheon & 47th Annual Business Person of the Year Award
DESCRIPTION:Please join us as we kick off the holiday season and celebrate the Twinsburg Chamber?s 2019 BUSINESS PERSON OF THE YEAR!\n\nCould it be you? Award to be presented by Cindy Leonard 2018 Business  Person of the Year!\n\n\n\nThe Chamber will also be sharing 2019 accomplishments and what's in store for 2020!\n\n\n\nEntertainment provided by Twinsburg High School Great Expectations Show Choir\n\n\n\nSponsored by Edward Jones - Tim Edington\, AAMS\, Financial Advisor
X-ALT-DESC;FMTTYPE=text/html:<br />\n<span style="font-size:14px\;"><span style="font-family:arial\;">Please join us as we kick off the holiday season and celebrate the Twinsburg Chamber?s&nbsp\;<span style="color:#cc0000\;"><span style="font-weight:bold\;language:en-US\;">2019 BUSINESS PERSON OF THE YEAR!</span></span><br />\n<span style="font-style:italic\;font-weight:bold\;language:en-US\;"><span style="color:#006600\;">Could it be you?</span><span style="color:#517A51\;">&nbsp\;</span></span>Award to be presented by Cindy Leonard 2018 Business&nbsp\; Person of the Year!<br />\n<br />\nThe Chamber will also be sharing 2019 accomplishments and what&#39\;s in store for 2020!</span></span><br />\n<br />\n<strong><span style="color: rgb(204\, 0\, 0)\; font-family: arial\; font-size: 14px\; font-style: italic\; line-height: 22.4px\; background-color: rgb(255\, 255\, 255)\;">Entertainment provided by Twinsburg High School Great Expectations Show Choir<br />\n<br />\nSponsored by Edward Jones - Tim Edington\, AAMS\, Financial Advisor</span></strong><br />\n&nbsp\;
LOCATION:Hilton Garden Inn 8971 Wilcox Drive Twinsburg\, OH 44087
UID:e.2230.2148
SEQUENCE:3
DTSTAMP:20260422T195716Z
URL:https://business.twinsburgchamber.com/events/details/annual-holiday-luncheon-47th-annual-business-person-of-the-year-award-2148
END:VEVENT

END:VCALENDAR
