BEGIN:VCALENDAR
VERSION:2.0
PRODID:-//ChamberMaster//Event Calendar 2.0//EN
METHOD:PUBLISH
X-PUBLISHED-TTL:P3D
REFRESH-INTERVAL:P3D
CALSCALE:GREGORIAN
BEGIN:VEVENT
DTSTART:20180921T130000Z
DTEND:20180921T210000Z
X-MICROSOFT-CDO-ALLDAYEVENT:FALSE
SUMMARY:Annual Chamber Golf Outing Presented by NextGen Restoration Inc.
DESCRIPTION:Join the Chamber on Friday\, September 21\, 2018 for our Annual Chamber Golf Outing at Gleneagles Golf Course! Enjoy a fun day filled with golf\, prizes\, raffles\, food & drinks and much more! Attend the Chamber's largest networking event of the year!
X-ALT-DESC;FMTTYPE=text/html:<br />\n<br />\n<br />\n<span style="font-size:14px\;"><span style="font-family:arial\;">Join the Chamber on <span style="color:#FF0000\;"><strong>Friday\, September 21\, 2018&nbsp\;</strong></span>for our Annual Chamber Golf Outing at Gleneagles Golf Course! Enjoy a fun day filled with golf\, prizes\, raffles\, food &amp\; drinks and much more! Attend the Chamber&#39\;s largest networking event of the year!</span></span><br />\n&nbsp\;\n<div class="gmail_default" style="color: rgb(34\, 34\, 34)\; font-size: 12.8000001907349px\; line-height: normal\; font-family: tahoma\, sans-serif\;">&nbsp\;</div>\n
LOCATION:Gleneagles Golf Course 2615 Glenwood Drive Twinsburg\, OH 44087
UID:e.2230.1803
SEQUENCE:3
DTSTAMP:20260421T152302Z
URL:https://business.twinsburgchamber.com/events/details/annual-chamber-golf-outing-presented-by-nextgen-restoration-inc-1803
END:VEVENT

END:VCALENDAR
