BEGIN:VCALENDAR
VERSION:2.0
PRODID:-//ChamberMaster//Event Calendar 2.0//EN
METHOD:PUBLISH
X-PUBLISHED-TTL:P3D
REFRESH-INTERVAL:P3D
CALSCALE:GREGORIAN
BEGIN:VEVENT
DTSTART:20170609T130000Z
DTEND:20170609T200000Z
X-MICROSOFT-CDO-ALLDAYEVENT:FALSE
SUMMARY:Annual Chamber Golf Outing Presented by Cardinal Health
DESCRIPTION:Player Registration NOW OPEN! (download pdf form here)\n\n\n\nJoin the Chamber on Friday\, June 9\, 2017 for our Annual Chamber Golf Outing at Gleneagles Golf Course! Enjoy a fun day filled with golf\, prizes\, raffles\, food & drinks and much more! \n\n \n*A portion of the proceeds from this outing will go directly towards our Chamber Scholarship Program which will be awarded to a Twinsburg High School student at our May 4\, 2017 State of the Schools and Scholarship Luncheon!
X-ALT-DESC;FMTTYPE=text/html:<br />\n<span style="font-size:18px\;"><span style="color:#006400\;"><strong><a href="https://chambermaster.blob.core.windows.net/userfiles/UserFiles/chambers/2230/File/2017GolfOutingSponsorshipsupdated3-24-17.pdf" target="_blank">Player Registration NOW OPEN!</a>&nbsp\;<span style="font-size:14px\;">(download pdf form here)</span></strong></span></span><br />\n<br />\n<span style="font-size:14px\;"><span style="font-family:arial\;">Join the Chamber on <span style="color:#FF0000\;"><strong>Friday\, June 9\, 2017&nbsp\;</strong></span>for our Annual Chamber Golf Outing at Gleneagles Golf Course! Enjoy a fun day filled with golf\, prizes\, raffles\, food &amp\; drinks and much more!&nbsp\;</span></span><br />\n&nbsp\;\n<div class="gmail_default" style="color: rgb(34\, 34\, 34)\; font-size: 12.8000001907349px\; line-height: normal\; font-family: tahoma\, sans-serif\;"><strong><span style="color:#FF0000\;"><span style="font-size:14px\;"><span style="font-family:arial\;">*A portion of the proceeds from this outing will go directly towards our Chamber Scholarship Program which will be awarded to a Twinsburg High School student at our May 4\,&nbsp\;2017&nbsp\;State of the Schools and Scholarship Luncheon!</span></span></span></strong></div>\n
LOCATION:Gleneagles Golf Course 2615 Glenwood Drive Twinsburg\, OH 44087
UID:e.2230.1740
SEQUENCE:3
DTSTAMP:20260420T143527Z
URL:https://business.twinsburgchamber.com/events/details/annual-chamber-golf-outing-presented-by-cardinal-health-1740
END:VEVENT

END:VCALENDAR
