BEGIN:VCALENDAR
VERSION:2.0
PRODID:-//ChamberMaster//Event Calendar 2.0//EN
METHOD:PUBLISH
X-PUBLISHED-TTL:P3D
REFRESH-INTERVAL:P3D
CALSCALE:GREGORIAN
BEGIN:VEVENT
DTSTART:20160610T130000Z
DTEND:20160610T203000Z
X-MICROSOFT-CDO-ALLDAYEVENT:FALSE
SUMMARY:Annual Chamber Golf Outing Presented by Cardinal Health
DESCRIPTION:Become a Sponsor Today! \n\n                   *Only a few sponsorship spots left! \n\n\n\n                 Sign Your Team Up Today! \n\n\n\nJoin the Chamber on Friday\, June 10\, 2016 for our Annual Chamber Golf Outing at Gleneagles Golf Course! Enjoy a fun day filled with golf\, prizes\, raffles\, food & drinks and much more! \n\n \n*A portion of the proceeds from this outing will go directly towards our Chamber Scholarship Program which will be awarded to a Twinsburg High School student at our May 5\, 2016 State of the Schools and Scholarship Luncheon!
X-ALT-DESC;FMTTYPE=text/html:<br />\n<span style="font-size:20px\;"><span style="font-family:arial\;">&nbsp\;&nbsp\; &nbsp\; &nbsp\; &nbsp\; &nbsp\; &nbsp\; &nbsp\; &nbsp\;&nbsp\;<a href="https://chambermaster.blob.core.windows.net/userfiles/UserFiles/chambers/2230/File/2016GolfOutingSponsorships5-2-2016R.pdf" target="_blank"><span style="color:#006400\;"><strong>Become a Sponsor Today!&nbsp\;</strong></span></a><br />\n<span style="font-size:16px\;"><span style="color:#FF0000\;"><strong>&nbsp\; &nbsp\; &nbsp\; &nbsp\; &nbsp\; &nbsp\; &nbsp\; &nbsp\; &nbsp\; &nbsp\;*Only a few sponsorship&nbsp\;spots left!&nbsp\;</strong></span></span><br />\n<br />\n<span style="color:#006400\;"><strong>&nbsp\; &nbsp\; &nbsp\; &nbsp\; &nbsp\; &nbsp\; &nbsp\; &nbsp\; <a href="https://chambermaster.blob.core.windows.net/userfiles/UserFiles/chambers/2230/File/2016GolfOutingSponsorships5-2-2016R.pdf" target="_blank">&nbsp\;</a></strong></span><a href="https://chambermaster.blob.core.windows.net/userfiles/UserFiles/chambers/2230/File/2016GolfOutingSponsorships5-2-2016R.pdf" target="_blank"><strong><span style="color:#006400\;">Sign Your Team Up Today!&nbsp\;</span></strong></a></span></span><br />\n<br />\n<span style="font-size:14px\;"><span style="font-family:arial\;">Join the Chamber on <span style="color:#FF0000\;"><strong>Friday\, June 10\, 2016&nbsp\;</strong></span>for our Annual Chamber Golf Outing at Gleneagles Golf Course! Enjoy a fun day filled with golf\, prizes\, raffles\, food &amp\; drinks and much more!&nbsp\;</span></span><br />\n&nbsp\;\n<div class="gmail_default" style="color: rgb(34\, 34\, 34)\; font-size: 12.8000001907349px\; line-height: normal\; font-family: tahoma\, sans-serif\;"><strong><span style="color:#FF0000\;"><span style="font-size:14px\;"><span style="font-family:arial\;">*A portion of the proceeds from this outing will go directly towards our Chamber Scholarship Program which will be awarded to a Twinsburg High School student at our May 5\,&nbsp\;2016 State of the Schools and Scholarship Luncheon!</span></span></span></strong></div>\n
LOCATION:Gleneagles Golf Course 2615 Glenwood Drive Twinsburg\, OH 44087
UID:e.2230.326
SEQUENCE:3
DTSTAMP:20260419T172618Z
URL:https://business.twinsburgchamber.com/events/details/annual-chamber-golf-outing-presented-by-cardinal-health-06-10-2016-326
END:VEVENT

END:VCALENDAR
