BEGIN:VCALENDAR
VERSION:2.0
PRODID:-//ChamberMaster//Event Calendar 2.0//EN
METHOD:PUBLISH
X-PUBLISHED-TTL:P3D
REFRESH-INTERVAL:P3D
CALSCALE:GREGORIAN
BEGIN:VEVENT
DTSTART:20240809T113000Z
DTEND:20240809T210000Z
X-MICROSOFT-CDO-ALLDAYEVENT:FALSE
SUMMARY:Annual Chamber Golf Outing 2024 Presented by Real Property Mangement Valor
DESCRIPTION:Join the Chamber on Friday\, August 9\, 2024 for our Annual Chamber Golf Outing at Gleneagles Golf Course! Enjoy a fun day filled with golf\, prizes\, raffles\, food\, drinks and much more!\n\n\n\nAttend the Chamber's largest networking event of the year!  We hope to see you there!
X-ALT-DESC;FMTTYPE=text/html:<span style="font-size:16px\;"><span style="font-family:arial\;">Join the Chamber on <span style="color:#FF0000\;"><strong>Friday\, August 9\, 2024&nbsp\;</strong></span>for our Annual Chamber Golf Outing at Gleneagles Golf Course! Enjoy a fun day filled with golf\, prizes\, raffles\, food\, drinks and much more!<br />\n<br />\nAttend the Chamber&#39\;s largest networking event of the year!&nbsp\; We hope to see you there!</span></span>\n<div class="gmail_default" style="color: rgb(34\, 34\, 34)\; font-size: 12.8000001907349px\; line-height: normal\; font-family: tahoma\, sans-serif\;">&nbsp\;</div>\n
LOCATION:*SOLD OUT* Gleneagles Golf Course 2615 Glenwood Drive Twinsburg\, OH 44087
UID:e.2230.3265
SEQUENCE:3
DTSTAMP:20260421T213401Z
URL:https://business.twinsburgchamber.com/events/details/annual-chamber-golf-outing-2024-presented-by-real-property-mangement-valor-3265
END:VEVENT

END:VCALENDAR
