BEGIN:VCALENDAR
VERSION:2.0
PRODID:-//ChamberMaster//Event Calendar 2.0//EN
METHOD:PUBLISH
X-PUBLISHED-TTL:P3D
REFRESH-INTERVAL:P3D
CALSCALE:GREGORIAN
BEGIN:VEVENT
DTSTART:20180417T120000Z
DTEND:20180417T190000Z
X-MICROSOFT-CDO-ALLDAYEVENT:FALSE
SUMMARY:ALIGN Presented by CONXUSNEO
DESCRIPTION:
X-ALT-DESC;FMTTYPE=text/html:<br />\n&nbsp\;
LOCATION:Hilton Akron-Fairlawn 3180 W Market Street Akron\, OH 44333
UID:e.2230.1807
SEQUENCE:3
DTSTAMP:20260421T091455Z
URL:https://business.twinsburgchamber.com/events/details/align-presented-by-conxusneo-1807
END:VEVENT

END:VCALENDAR
