BEGIN:VCALENDAR
VERSION:2.0
PRODID:-//ChamberMaster//Event Calendar 2.0//EN
METHOD:PUBLISH
X-PUBLISHED-TTL:P3D
REFRESH-INTERVAL:P3D
CALSCALE:GREGORIAN
BEGIN:VEVENT
DTSTART:20230921T203000Z
DTEND:20230921T223000Z
X-MICROSOFT-CDO-ALLDAYEVENT:FALSE
SUMMARY:After Hours Networking event-September 2023
DESCRIPTION:Join us for an After Hours Networking event at Blue Canyon!\n\n*Sponsored by the Female Advisory Board
X-ALT-DESC;FMTTYPE=text/html:<span style="font-size:22px\;">Join us for an After Hours Networking event at Blue Canyon!<br />\n<span style="color:#0000FF\;"><span style="font-size:18px\;"><em>*Sponsored by the Female Advisory Board</em></span></span></span>
LOCATION:*THIS EVENT IS SOLD OUT* Blue Canyon Kitchen and Tavern 8960 Wilcox Drive Twinsburg\, OH
UID:e.2230.3232
SEQUENCE:3
DTSTAMP:20260421T153619Z
URL:https://business.twinsburgchamber.com/events/details/after-hours-networking-event-september-2023-3232
END:VEVENT

END:VCALENDAR
