BEGIN:VCALENDAR
VERSION:2.0
PRODID:-//ChamberMaster//Event Calendar 2.0//EN
METHOD:PUBLISH
X-PUBLISHED-TTL:P3D
REFRESH-INTERVAL:P3D
CALSCALE:GREGORIAN
BEGIN:VEVENT
DTSTART:20230622T203000Z
DTEND:20230622T223000Z
X-MICROSOFT-CDO-ALLDAYEVENT:FALSE
SUMMARY:After Hours Networking event-June 2023
DESCRIPTION:FREE SERVICE
X-ALT-DESC;FMTTYPE=text/html:<div style="position: relative\; width: 100%\; height: 0\; padding-top: 77.2727%\;\n padding-bottom: 0\; box-shadow: 0 2px 8px 0 rgba(63\,69\,81\,0.16)\; margin-top: 1.6em\; margin-bottom: 0.9em\; overflow: hidden\;\n border-radius: 8px\; will-change: transform\;"><iframe allow="fullscreen" allowfullscreen="allowfullscreen" loading="lazy" src="https://www.canva.com/design/DAGqJpyzxmo/lwYvFBg7GLKXKFSu4R5X1A/view?embed" style="position: absolute\; width: 100%\; height: 100%\; top: 0\; left: 0\; border: none\; padding: 0\;margin: 0\;"></iframe></div>\n<a href="https://www.canva.com/design/DAGqJpyzxmo/lwYvFBg7GLKXKFSu4R5X1A/view?utm_content=DAGqJpyzxmo&amp\;utm_campaign=designshare&amp\;utm_medium=embeds&amp\;utm_source=link" rel="noopener" target="_blank">FREE SERVICE</a>
LOCATION:1899 Indoor Golf 3094 Glenwood Drive Reminderville\, OH
UID:e.2230.3233
SEQUENCE:3
DTSTAMP:20260421T101113Z
URL:https://business.twinsburgchamber.com/events/details/after-hours-networking-event-june-2023-3233
END:VEVENT

END:VCALENDAR
