BEGIN:VCALENDAR
VERSION:2.0
PRODID:-//ChamberMaster//Event Calendar 2.0//EN
METHOD:PUBLISH
X-PUBLISHED-TTL:P3D
REFRESH-INTERVAL:P3D
CALSCALE:GREGORIAN
BEGIN:VEVENT
DTSTART:20220623T200000Z
DTEND:20220623T220000Z
X-MICROSOFT-CDO-ALLDAYEVENT:FALSE
SUMMARY:After Hours Networking event
DESCRIPTION:Join us for an After Hours Networking event on the patio (weather permitting) at 1899 Indoor Golf!\n\n*Sponsored by Visual Marking Systems*
X-ALT-DESC;FMTTYPE=text/html:<span style="font-size:22px\;">Join us for an After Hours Networking event on the patio (weather permitting) at 1899 Indoor Golf!<br />\n<span style="color:#FF0000\;"><em><strong>*Sponsored by Visual Marking Systems*</strong></em></span></span>
LOCATION:1899 Indoor Golf 3094 Glenwood Blvd. Reminderville\, OH
UID:e.2230.3182
SEQUENCE:3
DTSTAMP:20260422T064757Z
URL:https://business.twinsburgchamber.com/events/details/after-hours-networking-event-3182
END:VEVENT

END:VCALENDAR
