BEGIN:VCALENDAR
VERSION:2.0
PRODID:-//ChamberMaster//Event Calendar 2.0//EN
METHOD:PUBLISH
X-PUBLISHED-TTL:P3D
REFRESH-INTERVAL:P3D
CALSCALE:GREGORIAN
BEGIN:VEVENT
DTSTART:20230410T170000Z
DTEND:20230410T203000Z
X-MICROSOFT-CDO-ALLDAYEVENT:FALSE
SUMMARY:Advanced Excel 2023
DESCRIPTION:THIS IS A 2 DAY COURSE! APRIL 10 & APRIL 17!\n\nMUST ATTEND BOTH DAYS (Fee covers BOTH days)\n\n\n\nTaught by Judy Paternite\n\nThe Advanced-level Excel class teaches using advanced functions\, lookup and data tables\, and advanced list management. Pivot tables and charts\, exporting and importing data\, various analytical options (scenarios\, goal seek\, and solver)\, and an introduction to macros are also taught.
X-ALT-DESC;FMTTYPE=text/html:<u><strong><span style="font-size:16px\;">THIS IS A 2 DAY COURSE! APRIL 10 &amp\; APRIL 17!<br />\nMUST ATTEND BOTH DAYS (Fee covers BOTH days)<br />\n<br />\nTaught by Judy Paternite</span></strong></u><br />\nThe Advanced-level Excel class teaches using advanced functions\, lookup and data tables\, and advanced list management. Pivot tables and charts\, exporting and importing data\, various analytical options (scenarios\, goal seek\, and solver)\, and an introduction to macros are also taught.<br />\n&nbsp\;
LOCATION:THIS IS A 2 DAY COURSE!* APRIL 10 & APRIL 17 *(Fee covers BOTH days. You only need to register once\, but you're required to attend both sessions) Kent State University Twinsburg Academic Center (Room location will be sent) 2745 Creekside Drive Twinsburg\, OH 44087
UID:e.2230.3215
SEQUENCE:3
DTSTAMP:20260421T115917Z
URL:https://business.twinsburgchamber.com/events/details/advanced-excel-2023-3215
END:VEVENT

END:VCALENDAR
